BEGIN:VCALENDAR
VERSION:2.0
PRODID:-//Rink 50 - Skateland Mesa - ECPv6.15.20//NONSGML v1.0//EN
CALSCALE:GREGORIAN
METHOD:PUBLISH
X-WR-CALNAME:Rink 50 - Skateland Mesa
X-ORIGINAL-URL:https://www.unitedskates.com/skateland-mesa
X-WR-CALDESC:Events for Rink 50 - Skateland Mesa
REFRESH-INTERVAL;VALUE=DURATION:PT1H
X-Robots-Tag:noindex
X-PUBLISHED-TTL:PT1H
BEGIN:VTIMEZONE
TZID:America/Phoenix
BEGIN:STANDARD
TZOFFSETFROM:-0700
TZOFFSETTO:-0700
TZNAME:MST
DTSTART:20240101T000000
END:STANDARD
END:VTIMEZONE
BEGIN:VEVENT
DTSTART;TZID=America/Phoenix:20250517T100000
DTEND;TZID=America/Phoenix:20250517T123000
DTSTAMP:20260421T214606
CREATED:20250405T220046Z
LAST-MODIFIED:20250405T220046Z
UID:23195-1747476000-1747485000@www.unitedskates.com
SUMMARY:Luau Skate With Stitch
DESCRIPTION:Come Join Us for a Summer Fun Time with Stitch! \nListen to ALL The BEST Disney Music! \nDon’t Forget to say “HI” to Stitch! \n$12 admission \n$4 Non-skating adult \n$5 Skate Rental \nWristguards are Mandatory. Free of Charge. \n**NO Outside Food Or Drinks. \n 
URL:https://www.unitedskates.com/skateland-mesa/event/luau-skate-with-stitch-3/
CATEGORIES:Family Events,Public Skates,Special Events
ATTACH;FMTTYPE=image/png:https://unitedskates-assets.sfo3.digitaloceanspaces.com/wp-content/uploads/sites/20/2025/04/May-17th.png
END:VEVENT
END:VCALENDAR