BEGIN:VCALENDAR
VERSION:2.0
PRODID:-//Rink 50 - Skateland Mesa - ECPv6.15.20//NONSGML v1.0//EN
CALSCALE:GREGORIAN
METHOD:PUBLISH
X-ORIGINAL-URL:https://www.unitedskates.com/skateland-mesa
X-WR-CALDESC:Events for Rink 50 - Skateland Mesa
REFRESH-INTERVAL;VALUE=DURATION:PT1H
X-Robots-Tag:noindex
X-PUBLISHED-TTL:PT1H
BEGIN:VTIMEZONE
TZID:America/Phoenix
BEGIN:STANDARD
TZOFFSETFROM:-0700
TZOFFSETTO:-0700
TZNAME:MST
DTSTART:20240101T000000
END:STANDARD
END:VTIMEZONE
BEGIN:VEVENT
DTSTART;TZID=America/Phoenix:20250507T180000
DTEND;TZID=America/Phoenix:20250507T200000
DTSTAMP:20260421T092326
CREATED:20250405T205044Z
LAST-MODIFIED:20250405T205044Z
UID:23172-1746640800-1746648000@www.unitedskates.com
SUMMARY:Beyonce Cowboy Carter Skate
DESCRIPTION:Calling ALL DIVAS to Skate! \nListen to ALL Your Favorite Beyonce Songs! \nQueen B Cafe Specials ALL NIGHT LONG! \n$7 Admission \n$5 Skate Rental \n$4 Non- Skating Adult \nWristguards are Mandatory. Free of Charge. \n** NO Outside Food or Drinks. \n  \n 
URL:https://www.unitedskates.com/skateland-mesa/event/beyonce-cowboy-carter-skate/
LOCATION:AZ
CATEGORIES:Family Events,Public Skates,Special Events
ATTACH;FMTTYPE=image/png:https://unitedskates-assets.sfo3.digitaloceanspaces.com/wp-content/uploads/sites/20/2025/04/May-7th.png
END:VEVENT
END:VCALENDAR