BEGIN:VCALENDAR
VERSION:2.0
PRODID:-//Rink 50 - Skateland Mesa - ECPv6.15.20//NONSGML v1.0//EN
CALSCALE:GREGORIAN
METHOD:PUBLISH
X-WR-CALNAME:Rink 50 - Skateland Mesa
X-ORIGINAL-URL:https://www.unitedskates.com/skateland-mesa
X-WR-CALDESC:Events for Rink 50 - Skateland Mesa
REFRESH-INTERVAL;VALUE=DURATION:PT1H
X-Robots-Tag:noindex
X-PUBLISHED-TTL:PT1H
BEGIN:VTIMEZONE
TZID:America/Phoenix
BEGIN:STANDARD
TZOFFSETFROM:-0700
TZOFFSETTO:-0700
TZNAME:MST
DTSTART:20240101T000000
END:STANDARD
END:VTIMEZONE
BEGIN:VEVENT
DTSTART;TZID=America/Phoenix:20250505T180000
DTEND;TZID=America/Phoenix:20250505T203000
DTSTAMP:20260421T090917
CREATED:20250405T203644Z
LAST-MODIFIED:20250405T203644Z
UID:23166-1746468000-1746477000@www.unitedskates.com
SUMMARY:Cinco De Mayo Skate!
DESCRIPTION:Happy Cinco De Mayo! Come celebrate with us! \nSkate around our rink this Cinco De Mayo! \nJoin Our Cinco De Mayo Giveaway! \nUnlimited Pizza ALL NIGHT LONG! \nONLY $5 For Nachos w/ Cheese! \n$12 admission \n$10 Non-skating adult \n$5 Skate Rental \n10 Game Credits\, Mini Cotton Candy Bag\, and a Glowstick for ONLY $5! \nWristguards are Mandatory. Free of Charge. \n**NO Outside Food or Drinks.
URL:https://www.unitedskates.com/skateland-mesa/event/cinco-de-mayo-skate-2/
LOCATION:AZ
CATEGORIES:Family Events,Public Skates,Special Events
ATTACH;FMTTYPE=image/png:https://unitedskates-assets.sfo3.digitaloceanspaces.com/wp-content/uploads/sites/20/2025/04/May-5th-.png
END:VEVENT
END:VCALENDAR