BEGIN:VCALENDAR
VERSION:2.0
PRODID:-//Rink 50 - Skateland Mesa - ECPv6.15.20//NONSGML v1.0//EN
CALSCALE:GREGORIAN
METHOD:PUBLISH
X-ORIGINAL-URL:https://www.unitedskates.com/skateland-mesa
X-WR-CALDESC:Events for Rink 50 - Skateland Mesa
REFRESH-INTERVAL;VALUE=DURATION:PT1H
X-Robots-Tag:noindex
X-PUBLISHED-TTL:PT1H
BEGIN:VTIMEZONE
TZID:America/Phoenix
BEGIN:STANDARD
TZOFFSETFROM:-0700
TZOFFSETTO:-0700
TZNAME:MST
DTSTART:20240101T000000
END:STANDARD
END:VTIMEZONE
BEGIN:VEVENT
DTSTART;TZID=America/Phoenix:20250426T100000
DTEND;TZID=America/Phoenix:20250426T123000
DTSTAMP:20260421T153331
CREATED:20250303T180724Z
LAST-MODIFIED:20250303T180724Z
UID:22868-1745661600-1745670600@www.unitedskates.com
SUMMARY:Music Bingo Skate
DESCRIPTION:BINGO! \nThat’s right come play Disney Music Bingo with us! \nWe will be playing all your favorite Disney Songs! \n$12 admission includes Bingo card \n$4 Non-skating adult \n$5 Skate rental \nWant more bingo cards? Only $1 for one bingo card! \n**NO Outside Food or Drinks \nWristguards are Mandatory. Free of Charge. \n 
URL:https://www.unitedskates.com/skateland-mesa/event/music-bingo-skate-2/
CATEGORIES:Family Events,Public Skates,Special Events
ATTACH;FMTTYPE=image/png:https://unitedskates-assets.sfo3.digitaloceanspaces.com/wp-content/uploads/sites/20/2025/03/Music-Bingo-1.png
END:VEVENT
END:VCALENDAR