BEGIN:VCALENDAR
VERSION:2.0
PRODID:-//Rink 50 - Skateland Mesa - ECPv6.15.20//NONSGML v1.0//EN
CALSCALE:GREGORIAN
METHOD:PUBLISH
X-WR-CALNAME:Rink 50 - Skateland Mesa
X-ORIGINAL-URL:https://www.unitedskates.com/skateland-mesa
X-WR-CALDESC:Events for Rink 50 - Skateland Mesa
REFRESH-INTERVAL;VALUE=DURATION:PT1H
X-Robots-Tag:noindex
X-PUBLISHED-TTL:PT1H
BEGIN:VTIMEZONE
TZID:America/Phoenix
BEGIN:STANDARD
TZOFFSETFROM:-0700
TZOFFSETTO:-0700
TZNAME:MST
DTSTART:20240101T000000
END:STANDARD
END:VTIMEZONE
BEGIN:VEVENT
DTSTART;TZID=America/Phoenix:20250423T103000
DTEND;TZID=America/Phoenix:20250423T140000
DTSTAMP:20260422T160637
CREATED:20250306T231711Z
LAST-MODIFIED:20250306T231906Z
UID:22894-1745404200-1745416800@www.unitedskates.com
SUMMARY:Homeschool STEM
DESCRIPTION:Come Join us for our Homeschool STEM Skate!\n\nHave your Kids learn about Lesson 3: Music Math and Roller skating!\n\nDoors open at 10:30am Lesson starts at 11am! Doors will close at 11:30am.\n\n11am-12pm is the Lesson and 12pm-2pm will be a FUN Skate for your kidos!\n\nBook ahead for 10 or more kids! No minimum.\n\n$12 admission includes admission\, skate rental and lesson\n\n$17 admission includes admission\, skate rental\, lesson\, a slice and a small drink\n\n$10 Skating adults\n\n**NO Outside Food or Drinks allowed\n\nWristguards are Mandatory. Free of Charge.
URL:https://www.unitedskates.com/skateland-mesa/event/homeschool-stem-2/
CATEGORIES:Family Events,Lessons,Public Skates,Special Events
ATTACH;FMTTYPE=image/png:https://unitedskates-assets.sfo3.digitaloceanspaces.com/wp-content/uploads/sites/20/2025/03/HomeSchool-STEM-April-23rd.png
END:VEVENT
BEGIN:VEVENT
DTSTART;TZID=America/Phoenix:20250423T180000
DTEND;TZID=America/Phoenix:20250423T200000
DTSTAMP:20260422T160637
CREATED:20250303T174033Z
LAST-MODIFIED:20250303T174033Z
UID:22861-1745431200-1745438400@www.unitedskates.com
SUMMARY:Taylor Swift Skate Night
DESCRIPTION:Calling all Swifties to skate to our favorite artist ALL Night Long! \nCome see our Taylor Swift Merch! \n$7 admission \n$5 Skate Rental \n$4 Non-skating adult \nSwiftie Pass $15 per person includes admission\,  skate rental\, 5 game credits\, heart glasses\, glow stick\, Swiftie friendship bracelet\, and a Swiftie tattoo \n**NO Outside Food or Drinks allowed. \nWristguards are Mandatory. Free of Charge. \n  \n 
URL:https://www.unitedskates.com/skateland-mesa/event/taylor-swift-skate-night/
CATEGORIES:Family Events,Public Skates,Special Events
ATTACH;FMTTYPE=image/png:https://unitedskates-assets.sfo3.digitaloceanspaces.com/wp-content/uploads/sites/20/2025/03/Taylor-Swift.png
END:VEVENT
END:VCALENDAR