BEGIN:VCALENDAR
VERSION:2.0
PRODID:-//Rink 50 - Skateland Mesa - ECPv6.15.20//NONSGML v1.0//EN
CALSCALE:GREGORIAN
METHOD:PUBLISH
X-WR-CALNAME:Rink 50 - Skateland Mesa
X-ORIGINAL-URL:https://www.unitedskates.com/skateland-mesa
X-WR-CALDESC:Events for Rink 50 - Skateland Mesa
REFRESH-INTERVAL;VALUE=DURATION:PT1H
X-Robots-Tag:noindex
X-PUBLISHED-TTL:PT1H
BEGIN:VTIMEZONE
TZID:America/Phoenix
BEGIN:STANDARD
TZOFFSETFROM:-0700
TZOFFSETTO:-0700
TZNAME:MST
DTSTART:20240101T000000
END:STANDARD
END:VTIMEZONE
BEGIN:VEVENT
DTSTART;TZID=America/Phoenix:20250420T120000
DTEND;TZID=America/Phoenix:20250420T143000
DTSTAMP:20260422T203707
CREATED:20250303T044919Z
LAST-MODIFIED:20250303T044919Z
UID:22850-1745150400-1745159400@www.unitedskates.com
SUMMARY:Donuts with the Easter Bunny
DESCRIPTION:Come Skate around the Rink to Disney Music! \nTake pictures with the Easter Bunny! \nBring your own Basket for our Easter Egg Hunt! \nGrab your favorite donut at the cafe! \n$13 admission \n$5 Skate Rental \n$4 Non-skating adults \n**NO Outside Food or Drinks \nWrist-guards are Mandatory. Free of Charge.
URL:https://www.unitedskates.com/skateland-mesa/event/donuts-with-the-easter-bunny-2/
CATEGORIES:Family Events,Public Skates,Special Events
ATTACH;FMTTYPE=image/png:https://unitedskates-assets.sfo3.digitaloceanspaces.com/wp-content/uploads/sites/20/2025/03/Donuts-w-easter-bunny-2.png
END:VEVENT
BEGIN:VEVENT
DTSTART;TZID=America/Phoenix:20250420T150000
DTEND;TZID=America/Phoenix:20250420T173000
DTSTAMP:20260422T203707
CREATED:20250303T051706Z
LAST-MODIFIED:20250303T163123Z
UID:22853-1745161200-1745170200@www.unitedskates.com
SUMMARY:Easter Character Explosion Skate
DESCRIPTION:Come see your favorite character ! \nTake pictures with Stitch\, Mario\, Hello Kitty and of course the Easter Bunny! \nDon’t forget to bring your basket for our Easter egg hunt! \n$13 admission \n$5 Skate Rental \n$4 Non-skating adults \n**NO Outside Food or Drinks \nWristguards are Mandatory. Free of charge.
URL:https://www.unitedskates.com/skateland-mesa/event/easter-character-explosion-skate/
CATEGORIES:Family Events,Public Skates,Special Events
ATTACH;FMTTYPE=image/png:https://unitedskates-assets.sfo3.digitaloceanspaces.com/wp-content/uploads/sites/20/2025/03/easter-exploa.png
END:VEVENT
BEGIN:VEVENT
DTSTART;TZID=America/Phoenix:20250420T180000
DTEND;TZID=America/Phoenix:20250420T203000
DTSTAMP:20260422T203707
CREATED:20250303T165055Z
LAST-MODIFIED:20250303T165055Z
UID:22858-1745172000-1745181000@www.unitedskates.com
SUMMARY:Easter Dinner Skate
DESCRIPTION:Come Join us for Easter Sunday! \nTake pictures with the Easter Bunny! \nHave unlimited pizza while you skate around our rink! \nDon’t forget to bring your Easter basket for our Easter Egg Hunt! \nFind the Golden Egg for 25 Game Credits! \n$13 admission \n$10 Non-skating adult \n$5 Skate Rental \n**NO Outside Food or Drinks allowed. \nWrist-guards are Mandatory. Free of Charge.
URL:https://www.unitedskates.com/skateland-mesa/event/easter-dinner-skate/
CATEGORIES:Family Events,Public Skates,Special Events
ATTACH;FMTTYPE=image/png:https://unitedskates-assets.sfo3.digitaloceanspaces.com/wp-content/uploads/sites/20/2025/03/Easter-Dinner.png
END:VEVENT
END:VCALENDAR