BEGIN:VCALENDAR
VERSION:2.0
PRODID:-//Rink 50 - Skateland Mesa - ECPv6.15.20//NONSGML v1.0//EN
CALSCALE:GREGORIAN
METHOD:PUBLISH
X-WR-CALNAME:Rink 50 - Skateland Mesa
X-ORIGINAL-URL:https://www.unitedskates.com/skateland-mesa
X-WR-CALDESC:Events for Rink 50 - Skateland Mesa
REFRESH-INTERVAL;VALUE=DURATION:PT1H
X-Robots-Tag:noindex
X-PUBLISHED-TTL:PT1H
BEGIN:VTIMEZONE
TZID:America/Phoenix
BEGIN:STANDARD
TZOFFSETFROM:-0700
TZOFFSETTO:-0700
TZNAME:MST
DTSTART:20240101T000000
END:STANDARD
END:VTIMEZONE
BEGIN:VEVENT
DTSTART;TZID=America/Phoenix:20250419T100000
DTEND;TZID=America/Phoenix:20250419T123000
DTSTAMP:20260422T160656
CREATED:20250303T042345Z
LAST-MODIFIED:20250303T042345Z
UID:22847-1745056800-1745065800@www.unitedskates.com
SUMMARY:Superhero Easter Egg Hunt
DESCRIPTION:Come Join Us for a Spectacular Hunt! \nTake Pictures with Spiderman! \nDon’t forget to bring your basket for our Easter Egg Hunt! \n$12 admission \n$5 Skate rental \n**NO Outside Food or Drinks. \nWrist-guards are Mandatory. Free of Charge. \n  \n  \n 
URL:https://www.unitedskates.com/skateland-mesa/event/superhero-easter-egg-hunt/
CATEGORIES:Family Events,Public Skates,Special Events
ATTACH;FMTTYPE=image/png:https://unitedskates-assets.sfo3.digitaloceanspaces.com/wp-content/uploads/sites/20/2025/03/Superhero-egg-hunt.png
END:VEVENT
END:VCALENDAR