BEGIN:VCALENDAR
VERSION:2.0
PRODID:-//Rink 50 - Skateland Mesa - ECPv6.15.20//NONSGML v1.0//EN
CALSCALE:GREGORIAN
METHOD:PUBLISH
X-ORIGINAL-URL:https://www.unitedskates.com/skateland-mesa
X-WR-CALDESC:Events for Rink 50 - Skateland Mesa
REFRESH-INTERVAL;VALUE=DURATION:PT1H
X-Robots-Tag:noindex
X-PUBLISHED-TTL:PT1H
BEGIN:VTIMEZONE
TZID:America/Phoenix
BEGIN:STANDARD
TZOFFSETFROM:-0700
TZOFFSETTO:-0700
TZNAME:MST
DTSTART:20240101T000000
END:STANDARD
END:VTIMEZONE
BEGIN:VEVENT
DTSTART;TZID=America/Phoenix:20250405T100000
DTEND;TZID=America/Phoenix:20250405T123000
DTSTAMP:20260422T180140
CREATED:20250228T230105Z
LAST-MODIFIED:20250228T230105Z
UID:22824-1743847200-1743856200@www.unitedskates.com
SUMMARY:Olaf's Frozen Adventure
DESCRIPTION:Come Join Olaf and skate around the rink! \nDress as your favorite Frozen Character! \nListen to all your favorite Frozen Music! \nPlay Frozen & Disney Trivia! WIN PRIZES! \nEnjoy our Olaf’s Frozen Treats! \n$12 admission \n$4 Non-skating adults \n$5 Skate Rental \n**NO Outside Food or Drinks \nWristguards are Mandatory. Free of Charge.
URL:https://www.unitedskates.com/skateland-mesa/event/olafs-frozen-adventure/
CATEGORIES:Family Events,Public Skates,Special Events
ATTACH;FMTTYPE=image/png:https://unitedskates-assets.sfo3.digitaloceanspaces.com/wp-content/uploads/sites/20/2025/02/Olafs-Frozen-Adventure.png
END:VEVENT
END:VCALENDAR