BEGIN:VCALENDAR
VERSION:2.0
PRODID:-//Rink 50 - Skateland Mesa - ECPv6.15.20//NONSGML v1.0//EN
CALSCALE:GREGORIAN
METHOD:PUBLISH
X-WR-CALNAME:Rink 50 - Skateland Mesa
X-ORIGINAL-URL:https://www.unitedskates.com/skateland-mesa
X-WR-CALDESC:Events for Rink 50 - Skateland Mesa
REFRESH-INTERVAL;VALUE=DURATION:PT1H
X-Robots-Tag:noindex
X-PUBLISHED-TTL:PT1H
BEGIN:VTIMEZONE
TZID:America/Phoenix
BEGIN:STANDARD
TZOFFSETFROM:-0700
TZOFFSETTO:-0700
TZNAME:MST
DTSTART:20240101T000000
END:STANDARD
END:VTIMEZONE
BEGIN:VEVENT
DTSTART;TZID=America/Phoenix:20250403T173000
DTEND;TZID=America/Phoenix:20250403T200000
DTSTAMP:20260421T221337
CREATED:20250314T163753Z
LAST-MODIFIED:20250314T163753Z
UID:23119-1743701400-1743710400@www.unitedskates.com
SUMMARY:First Responders Skate Party
DESCRIPTION:Come Join Us and Skate with our Mesa Police Officers and Firefighters! \nTake Family Pictures With Stitch or in A Police Car or Even a Firetruck! \nPlay Trivia and WIN Some Cool Police Merch! \nEnter Your Class in a Chance to WIN a FREE PIZZA PARTY! \n$4 Admission \n$5 Skate Rental \n$4 Non-skating adults \n*Free admission for all first responders and 3 of their family members!* (Skate rental xtra) \n**NO Outside Food or Drinks allowed \nWristguards are Mandatory. FREE of Charge.
URL:https://www.unitedskates.com/skateland-mesa/event/first-responders-skate-party/
CATEGORIES:Family Events,Public Skates,Special Events
ATTACH;FMTTYPE=image/png:https://unitedskates-assets.sfo3.digitaloceanspaces.com/wp-content/uploads/sites/20/2025/03/mesa-police-and-fire-event.png
END:VEVENT
END:VCALENDAR