BEGIN:VCALENDAR
VERSION:2.0
PRODID:-//Rink 50 - Skateland Mesa - ECPv6.15.20//NONSGML v1.0//EN
CALSCALE:GREGORIAN
METHOD:PUBLISH
X-WR-CALNAME:Rink 50 - Skateland Mesa
X-ORIGINAL-URL:https://www.unitedskates.com/skateland-mesa
X-WR-CALDESC:Events for Rink 50 - Skateland Mesa
REFRESH-INTERVAL;VALUE=DURATION:PT1H
X-Robots-Tag:noindex
X-PUBLISHED-TTL:PT1H
BEGIN:VTIMEZONE
TZID:America/Phoenix
BEGIN:STANDARD
TZOFFSETFROM:-0700
TZOFFSETTO:-0700
TZNAME:MST
DTSTART:20240101T000000
END:STANDARD
END:VTIMEZONE
BEGIN:VEVENT
DTSTART;TZID=America/Phoenix:20250401T173000
DTEND;TZID=America/Phoenix:20250401T200000
DTSTAMP:20260422T173627
CREATED:20250329T062629Z
LAST-MODIFIED:20250329T071109Z
UID:23144-1743528600-1743537600@www.unitedskates.com
SUMMARY:Half-Price Skate
DESCRIPTION:Join us for a half-price skate!\n5:30-8pm \nAdmission: $6\nSkates: $2.50\nNon-Skating Adults $4 \nEnjoy 1/2 price pacifiers\, 1/2 price game cards and 1/2 price pizza slices!
URL:https://www.unitedskates.com/skateland-mesa/event/half-price-skate-3/
CATEGORIES:Family Events,Public Skates
ATTACH;FMTTYPE=image/png:https://unitedskates-assets.sfo3.digitaloceanspaces.com/wp-content/uploads/sites/20/2025/03/half-price-skate.png
END:VEVENT
END:VCALENDAR