BEGIN:VCALENDAR
VERSION:2.0
PRODID:-//Rink 50 - Skateland Mesa - ECPv6.15.20//NONSGML v1.0//EN
CALSCALE:GREGORIAN
METHOD:PUBLISH
X-ORIGINAL-URL:https://www.unitedskates.com/skateland-mesa
X-WR-CALDESC:Events for Rink 50 - Skateland Mesa
REFRESH-INTERVAL;VALUE=DURATION:PT1H
X-Robots-Tag:noindex
X-PUBLISHED-TTL:PT1H
BEGIN:VTIMEZONE
TZID:America/Phoenix
BEGIN:STANDARD
TZOFFSETFROM:-0700
TZOFFSETTO:-0700
TZNAME:MST
DTSTART:20240101T000000
END:STANDARD
END:VTIMEZONE
BEGIN:VEVENT
DTSTART;TZID=America/Phoenix:20250317T180000
DTEND;TZID=America/Phoenix:20250317T210000
DTSTAMP:20260422T153620
CREATED:20250210T185812Z
LAST-MODIFIED:20250305T201414Z
UID:22705-1742234400-1742245200@www.unitedskates.com
SUMMARY:St. Patrick All You Can Eat Pizza Skate
DESCRIPTION:Happy Saint Patty’s day! \nJoin us for a FUN time with UNLIMITED Pizza! \n📷 Take fun Pictures with Spongebob and Patrick 📷 \n$13 admission includes a green glowstick with unlimited pizza! \n$10 Non-skating adult \n$5 Skate Rental \n**NO Outside food or drinks \nWristguards are Mandatory. Free of charge. \n 
URL:https://www.unitedskates.com/skateland-mesa/event/st-patrick-all-you-can-eat-pizza/
CATEGORIES:Family Events,Public Skates,Special Events
ATTACH;FMTTYPE=image/png:https://unitedskates-assets.sfo3.digitaloceanspaces.com/wp-content/uploads/sites/20/2025/02/All-You-Can-Eat-Cheese-Pizza-St.-patrick-3.png
END:VEVENT
END:VCALENDAR