BEGIN:VCALENDAR
VERSION:2.0
PRODID:-//Rink 50 - Skateland Mesa - ECPv6.15.20//NONSGML v1.0//EN
CALSCALE:GREGORIAN
METHOD:PUBLISH
X-ORIGINAL-URL:https://www.unitedskates.com/skateland-mesa
X-WR-CALDESC:Events for Rink 50 - Skateland Mesa
REFRESH-INTERVAL;VALUE=DURATION:PT1H
X-Robots-Tag:noindex
X-PUBLISHED-TTL:PT1H
BEGIN:VTIMEZONE
TZID:America/Phoenix
BEGIN:STANDARD
TZOFFSETFROM:-0700
TZOFFSETTO:-0700
TZNAME:MST
DTSTART:20240101T000000
END:STANDARD
END:VTIMEZONE
BEGIN:VEVENT
DTSTART;TZID=America/Phoenix:20250307T180000
DTEND;TZID=America/Phoenix:20250316T200000
DTSTAMP:20260424T020843
CREATED:20250228T174205Z
LAST-MODIFIED:20250228T174205Z
UID:22814-1741370400-1742155200@www.unitedskates.com
SUMMARY:🛼Spring Break Skating - School is Out and Skateland is Open Everyday for Family Fun🛼
DESCRIPTION:
URL:https://www.unitedskates.com/skateland-mesa/event/%f0%9f%9b%bcspring-break-skating-school-is-out-and-skateland-is-open-everyday-for-family-fun%f0%9f%9b%bc/
LOCATION:Skateland Mesa\, 7 E. Southern Ave.\, Mesa\, AZ\, 85210\, United States
CATEGORIES:Family Events,Public Skates
ATTACH;FMTTYPE=image/jpeg:https://unitedskates-assets.sfo3.digitaloceanspaces.com/wp-content/uploads/sites/20/2025/02/Spring-Break-2025-Calendar-Front-rink-50.jpg
END:VEVENT
BEGIN:VEVENT
DTSTART;TZID=America/Phoenix:20250310T100000
DTEND;TZID=America/Phoenix:20250310T143000
DTSTAMP:20260424T020843
CREATED:20250203T201546Z
LAST-MODIFIED:20250203T201546Z
UID:22558-1741600800-1741617000@www.unitedskates.com
SUMMARY:Kick off to Spring Skate
DESCRIPTION:Come Join us and Kick off Spring Break! \nSkate around the Rink\, get your Face Painted and don’t forget to try our cafe specials! \n$12 admission \n$4 Non-skating adult \n$5 Skate rental \n**NO outside food or drinks \nWristguards are Mandatory. Free of Charge.
URL:https://www.unitedskates.com/skateland-mesa/event/kick-off-to-spring-skate/
CATEGORIES:Family Events,Public Skates,Special Events
ATTACH;FMTTYPE=image/png:https://unitedskates-assets.sfo3.digitaloceanspaces.com/wp-content/uploads/sites/20/2025/02/Kick-off-to-Spring-1.png
END:VEVENT
BEGIN:VEVENT
DTSTART;TZID=America/Phoenix:20250310T150000
DTEND;TZID=America/Phoenix:20250310T173000
DTSTAMP:20260424T020843
CREATED:20250210T201126Z
LAST-MODIFIED:20250210T201126Z
UID:22713-1741618800-1741627800@www.unitedskates.com
SUMMARY:Public Skating Session
DESCRIPTION:Come Join Us for our Public Skating Session! \n$12 admission \n$5 Skate rental \n$4 Non- Skating Adult \n**NO outside food or drinks \nWristguards are Mandatory. Free of charge. \n 
URL:https://www.unitedskates.com/skateland-mesa/event/public-skating-session/
CATEGORIES:Family Events,Public Skates
ATTACH;FMTTYPE=image/jpeg:https://unitedskates-assets.sfo3.digitaloceanspaces.com/wp-content/uploads/sites/20/2025/02/Public-Skate-1200x1200-v3.jpg
END:VEVENT
BEGIN:VEVENT
DTSTART;TZID=America/Phoenix:20250310T180000
DTEND;TZID=America/Phoenix:20250310T200000
DTSTAMP:20260424T020843
CREATED:20250203T202348Z
LAST-MODIFIED:20250203T202348Z
UID:22565-1741629600-1741636800@www.unitedskates.com
SUMMARY:All You Can Eat with Minions
DESCRIPTION:Come Skate around the rink and eat unlimited pizza! \n📷 Don’t forget to take pictures with your favorite Minion!📷 \n$12 admission includes unlimited pizza \n$10 non skating adults \n$5 Skate rental \n**NO Outside food or drinks allowed \nWristguards are Mandatory. Free of charge. \n 
URL:https://www.unitedskates.com/skateland-mesa/event/all-you-can-eat-with-minions/
CATEGORIES:Family Events,Public Skates,Special Events
ATTACH;FMTTYPE=image/png:https://unitedskates-assets.sfo3.digitaloceanspaces.com/wp-content/uploads/sites/20/2025/02/AYCE-Minion-2.png
END:VEVENT
END:VCALENDAR