BEGIN:VCALENDAR
VERSION:2.0
PRODID:-//Rink 50 - Skateland Mesa - ECPv6.15.20//NONSGML v1.0//EN
CALSCALE:GREGORIAN
METHOD:PUBLISH
X-WR-CALNAME:Rink 50 - Skateland Mesa
X-ORIGINAL-URL:https://www.unitedskates.com/skateland-mesa
X-WR-CALDESC:Events for Rink 50 - Skateland Mesa
REFRESH-INTERVAL;VALUE=DURATION:PT1H
X-Robots-Tag:noindex
X-PUBLISHED-TTL:PT1H
BEGIN:VTIMEZONE
TZID:America/Phoenix
BEGIN:STANDARD
TZOFFSETFROM:-0700
TZOFFSETTO:-0700
TZNAME:MST
DTSTART:20240101T000000
END:STANDARD
END:VTIMEZONE
BEGIN:VEVENT
DTSTART;TZID=America/Phoenix:20250305T180000
DTEND;TZID=America/Phoenix:20250305T200000
DTSTAMP:20260423T231142
CREATED:20250213T014258Z
LAST-MODIFIED:20250213T014258Z
UID:22731-1741197600-1741204800@www.unitedskates.com
SUMMARY:Emo Skate Night
DESCRIPTION:Come Roll Through Your Feels! \nDress Your Best Emo Look! \nListen To Emo Music All Session Long! \n$7 admission \n$5 Skate Rental \n$4 Non-skating Adult \n**NO Outside Food Or Drinks \nWristGuards are Mandatory. Free of Charge. \n 
URL:https://www.unitedskates.com/skateland-mesa/event/emo-skate-night-2/
CATEGORIES:Family Events,Public Skates,Special Events
ATTACH;FMTTYPE=image/png:https://unitedskates-assets.sfo3.digitaloceanspaces.com/wp-content/uploads/sites/20/2025/02/Wednesday-March-5th.png
END:VEVENT
END:VCALENDAR