BEGIN:VCALENDAR
VERSION:2.0
PRODID:-//Rink 50 - Skateland Mesa - ECPv6.15.20//NONSGML v1.0//EN
CALSCALE:GREGORIAN
METHOD:PUBLISH
X-WR-CALNAME:Rink 50 - Skateland Mesa
X-ORIGINAL-URL:https://www.unitedskates.com/skateland-mesa
X-WR-CALDESC:Events for Rink 50 - Skateland Mesa
REFRESH-INTERVAL;VALUE=DURATION:PT1H
X-Robots-Tag:noindex
X-PUBLISHED-TTL:PT1H
BEGIN:VTIMEZONE
TZID:America/Phoenix
BEGIN:STANDARD
TZOFFSETFROM:-0700
TZOFFSETTO:-0700
TZNAME:MST
DTSTART:20240101T000000
END:STANDARD
END:VTIMEZONE
BEGIN:VEVENT
DTSTART;TZID=America/Phoenix:20250214T180000
DTEND;TZID=America/Phoenix:20250214T210000
DTSTAMP:20260423T191143
CREATED:20250109T032525Z
LAST-MODIFIED:20250109T032525Z
UID:21651-1739556000-1739566800@www.unitedskates.com
SUMMARY:Wicked Galentines
DESCRIPTION:Come Join Us for a Wickedly FUN Valentines day! \n$14 admission includes pink or green glowstick! \nDress as your favorite Wicked character! \nListen to Wicked ALL NIGHT LONG! \nCheck out our Wicked Merch cart! \n$5 Skate Rental \n$4 Non-skating adults \n**Wristguards are Mandatory and Free of Charge \nNo Outside Food or Drinks \n 
URL:https://www.unitedskates.com/skateland-mesa/event/wicked-galentines/
CATEGORIES:Family Events,Public Skates,Special Events
ATTACH;FMTTYPE=image/png:https://unitedskates-assets.sfo3.digitaloceanspaces.com/wp-content/uploads/sites/20/2025/01/Wicked-Galentines-3.png
END:VEVENT
BEGIN:VEVENT
DTSTART;TZID=America/Phoenix:20250214T180000
DTEND;TZID=America/Phoenix:20250217T203000
DTSTAMP:20260423T191143
CREATED:20250122T172503Z
LAST-MODIFIED:20250122T172503Z
UID:22405-1739556000-1739824200@www.unitedskates.com
SUMMARY:Presidents' Day Weekend Roller Skating
DESCRIPTION:School’s Out—Let’s Skate! Presidents’ Day Weekend Fun Awaits!\nGet ready for a weekend of exciting roller-skating events and themed fun at USA’s Skateland Mesa! Bring your friends and family to make unforgettable memories this Presidents’ Day Weekend. From glow parties to character skates\, there’s something for everyone to enjoy! \nEvent Highlights: \n\nFriday\, February 14: Valentine’s Day Fun!\n\nWicked Galentine’s Skate: 6:00 PM – 9:00 PM ($14 Admission includes glow necklace).\nSpecial Deal: 2 for $45 includes admission\, skates\, glow sticks\, pink & green cotton candy bag\, and a $5 game credit!\nAdult Valentine Skate Date Night: 9:30 PM – 12:00 AM ($15 Admission includes skate rental\, pizza slice\, and medium drink).\n\n\nSaturday\, February 15: Family Fun All Day!\n\nGrinch Steals Valentine’s Skate: 10:00 AM – 12:30 PM ($12 Admission includes cotton candy bag).\nTaylor Swift Galentine’s Skate: 1:30 PM – 3:30 PM ($11 Admission).\nGlow and Jam Skates in the evening for extra fun!\n\n\nSunday\, February 16: Mickey & Minnie Valentine’s Brunch!\n\n12:00 PM – 2:30 PM: $13 Admission includes a waffle bar and meet & greet with Mickey & Minnie.\n\n\nMonday\, February 17: Presidents’ Day Celebration!\n\nMinion Glow Skate: 10:00 AM – 12:30 PM ($12 Admission includes a glow stick).\nDisney Mystery Character Skate: 3:00 PM – 5:30 PM ($12 Admission).\nPresidents’ Day Skate: 6:00 PM – 8:30 PM ($10 Admission).\n\n\n\nAffordable Fun for Everyone: \n\nSkate Rentals: $5.00.\nWristguards are mandatory and provided free of charge.\n\nImportant Information: \n\nAges 17 and under must be accompanied by an adult aged 23+.\nSessions are open for birthday party bookings—celebrate with us!\n\n📍 Join us at 7 E. Southern Ave\, Mesa\, AZ 85210.\n📞 Call 480-833-7775 or visit www.skatelandmesa.com for more details. \nDon’t miss out on the fun—see you at the rink for an incredible Presidents’ Day Weekend!
URL:https://www.unitedskates.com/skateland-mesa/event/presidents-day-weekend-roller-skating/
CATEGORIES:Family Events,Public Skates,Special Events
ATTACH;FMTTYPE=image/jpeg:https://unitedskates-assets.sfo3.digitaloceanspaces.com/wp-content/uploads/sites/20/2025/01/Pres-day-weekend-2025-calendar-Front-rink50.jpg
END:VEVENT
BEGIN:VEVENT
DTSTART;TZID=America/Phoenix:20250214T213000
DTEND;TZID=America/Phoenix:20250215T000000
DTSTAMP:20260423T191143
CREATED:20250109T033107Z
LAST-MODIFIED:20250109T195905Z
UID:21654-1739568600-1739577600@www.unitedskates.com
SUMMARY:Valentines Day Adults Skate Night
DESCRIPTION:Join Us to Skate the Night Away With your Date! \nAges 18+ Only. ID Must Be Shown. \n$15 includes admission and skates. \n2 for $50 includes 2 admission\, 2 skates\, 2 slices\, 2 small drinks and 50 game credits. \n$4 Non-skating adults \nNo Outside Food or Drinks. \n  \n 
URL:https://www.unitedskates.com/skateland-mesa/event/valentines-day-adults-skate-night/
CATEGORIES:Family Events,Public Skates,Special Events
ATTACH;FMTTYPE=image/png:https://unitedskates-assets.sfo3.digitaloceanspaces.com/wp-content/uploads/sites/20/2025/01/Valentines-Adult-Skate-Night-3.png
END:VEVENT
END:VCALENDAR