BEGIN:VCALENDAR
VERSION:2.0
PRODID:-//Rink 50 - Skateland Mesa - ECPv6.15.20//NONSGML v1.0//EN
CALSCALE:GREGORIAN
METHOD:PUBLISH
X-ORIGINAL-URL:https://www.unitedskates.com/skateland-mesa
X-WR-CALDESC:Events for Rink 50 - Skateland Mesa
REFRESH-INTERVAL;VALUE=DURATION:PT1H
X-Robots-Tag:noindex
X-PUBLISHED-TTL:PT1H
BEGIN:VTIMEZONE
TZID:America/Phoenix
BEGIN:STANDARD
TZOFFSETFROM:-0700
TZOFFSETTO:-0700
TZNAME:MST
DTSTART:20240101T000000
END:STANDARD
END:VTIMEZONE
BEGIN:VEVENT
DTSTART;TZID=America/Phoenix:20250208T100000
DTEND;TZID=America/Phoenix:20250208T123000
DTSTAMP:20260423T095945
CREATED:20250109T024145Z
LAST-MODIFIED:20250207T213815Z
UID:21445-1739008800-1739017800@www.unitedskates.com
SUMMARY:Canceled Saturday Public Skate
DESCRIPTION:We will be open for our 1:00-3:30 skating session! \n$12 admission \n$5 Skate Rental \n$4 Non-skating adult \nWrist-guards are Mandatory and Free of Charge. \nNo Outside Food or Drinks.
URL:https://www.unitedskates.com/skateland-mesa/event/saturday-public-skate-2025-02-08/
CATEGORIES:Family Events,Public Skates
ATTACH;FMTTYPE=image/jpeg:https://unitedskates-assets.sfo3.digitaloceanspaces.com/wp-content/uploads/sites/20/2025/01/Closed-Rink-Tile-1200x1200-1.jpg
END:VEVENT
END:VCALENDAR