BEGIN:VCALENDAR
VERSION:2.0
PRODID:-//Rink 50 - Skateland Mesa - ECPv6.15.20//NONSGML v1.0//EN
CALSCALE:GREGORIAN
METHOD:PUBLISH
X-ORIGINAL-URL:https://www.unitedskates.com/skateland-mesa
X-WR-CALDESC:Events for Rink 50 - Skateland Mesa
REFRESH-INTERVAL;VALUE=DURATION:PT1H
X-Robots-Tag:noindex
X-PUBLISHED-TTL:PT1H
BEGIN:VTIMEZONE
TZID:America/Phoenix
BEGIN:STANDARD
TZOFFSETFROM:-0700
TZOFFSETTO:-0700
TZNAME:MST
DTSTART:20240101T000000
END:STANDARD
END:VTIMEZONE
BEGIN:VEVENT
DTSTART;TZID=America/Phoenix:20250207T180000
DTEND;TZID=America/Phoenix:20250207T210000
DTSTAMP:20260423T095943
CREATED:20241230T210218Z
LAST-MODIFIED:20250207T204529Z
UID:20856-1738951200-1738962000@www.unitedskates.com
SUMMARY:Canceled Football Frenzy Skate
DESCRIPTION:Session canceled due to renovations. Join us on Saturday! \n🏈Come kick off  Superbowl Weekend with us! 🏈 \n$16 admission includes skates\, 5 game credits and a chance to win a Superbowl party! \n$4 for non skating adults \n$2 off when you wear your team jersey you are cheering for this superbowl! \nTailgate Cafe Specials all night long! \n**Wristguards Mandatory. Free of Charge. \nNo Outside Food or Drinks. \n  \n 
URL:https://www.unitedskates.com/skateland-mesa/event/football-frenzy-skate/
CATEGORIES:Family Events,Public Skates,Special Events
ATTACH;FMTTYPE=image/jpeg:https://unitedskates-assets.sfo3.digitaloceanspaces.com/wp-content/uploads/sites/20/2025/01/Closed-Rink-Tile-1200x1200-1.jpg
END:VEVENT
END:VCALENDAR