BEGIN:VCALENDAR
VERSION:2.0
PRODID:-//Rink 50 - Skateland Mesa - ECPv6.15.20//NONSGML v1.0//EN
CALSCALE:GREGORIAN
METHOD:PUBLISH
X-WR-CALNAME:Rink 50 - Skateland Mesa
X-ORIGINAL-URL:https://www.unitedskates.com/skateland-mesa
X-WR-CALDESC:Events for Rink 50 - Skateland Mesa
REFRESH-INTERVAL;VALUE=DURATION:PT1H
X-Robots-Tag:noindex
X-PUBLISHED-TTL:PT1H
BEGIN:VTIMEZONE
TZID:America/Phoenix
BEGIN:STANDARD
TZOFFSETFROM:-0700
TZOFFSETTO:-0700
TZNAME:MST
DTSTART:20240101T000000
END:STANDARD
END:VTIMEZONE
BEGIN:VEVENT
DTSTART;TZID=America/Phoenix:20250128T170000
DTEND;TZID=America/Phoenix:20250128T200000
DTSTAMP:20260423T042549
CREATED:20250109T174556Z
LAST-MODIFIED:20250109T181031Z
UID:21938-1738083600-1738094400@www.unitedskates.com
SUMMARY:Catholic Schools Skate Night!
DESCRIPTION:Calling All Catholic School Families! \nCome Skate the night away to Christian Music! \nEvery Student with ID gets a free Glowstick! \nArts and Crafts Table! \nA chance to WIN a FREE PIZZA PARTY for your Class at your Catholic School ! \n$10 admission includes skate rental \n$4 Non-skating adults \n** Wrist-guards are Mandatory. Free of Charge. \nNo Outside Food or Drink.
URL:https://www.unitedskates.com/skateland-mesa/event/catholic-schools-night/
CATEGORIES:Family Events,Special Events
ATTACH;FMTTYPE=image/png:https://unitedskates-assets.sfo3.digitaloceanspaces.com/wp-content/uploads/sites/20/2025/01/Catholic-Schools-Week-1.png
END:VEVENT
END:VCALENDAR