BEGIN:VCALENDAR
VERSION:2.0
PRODID:-//Rink 50 - Skateland Mesa - ECPv6.15.20//NONSGML v1.0//EN
CALSCALE:GREGORIAN
METHOD:PUBLISH
X-WR-CALNAME:Rink 50 - Skateland Mesa
X-ORIGINAL-URL:https://www.unitedskates.com/skateland-mesa
X-WR-CALDESC:Events for Rink 50 - Skateland Mesa
REFRESH-INTERVAL;VALUE=DURATION:PT1H
X-Robots-Tag:noindex
X-PUBLISHED-TTL:PT1H
BEGIN:VTIMEZONE
TZID:America/Phoenix
BEGIN:STANDARD
TZOFFSETFROM:-0700
TZOFFSETTO:-0700
TZNAME:MST
DTSTART:20240101T000000
END:STANDARD
END:VTIMEZONE
BEGIN:VEVENT
DTSTART;TZID=America/Phoenix:20250122T180000
DTEND;TZID=America/Phoenix:20250122T200000
DTSTAMP:20260423T054340
CREATED:20250108T195544Z
LAST-MODIFIED:20250310T185911Z
UID:20889-1737568800-1737576000@www.unitedskates.com
SUMMARY:Affordable Family Fun Night
DESCRIPTION:Come Join Us for a Family Fun Night! \n$7 admission \n$5 Skate Rental \n$4 Non-skating adults
URL:https://www.unitedskates.com/skateland-mesa/event/affordable-family-fun-night-4/2025-01-22/
CATEGORIES:Family Events,Public Skates,Special Events
ATTACH;FMTTYPE=image/png:https://unitedskates-assets.sfo3.digitaloceanspaces.com/wp-content/uploads/sites/20/2025/01/Wednesday-Night-Skate-1.png
END:VEVENT
END:VCALENDAR