BEGIN:VCALENDAR
VERSION:2.0
PRODID:-//Rink 50 - Skateland Mesa - ECPv6.15.20//NONSGML v1.0//EN
CALSCALE:GREGORIAN
METHOD:PUBLISH
X-ORIGINAL-URL:https://www.unitedskates.com/skateland-mesa
X-WR-CALDESC:Events for Rink 50 - Skateland Mesa
REFRESH-INTERVAL;VALUE=DURATION:PT1H
X-Robots-Tag:noindex
X-PUBLISHED-TTL:PT1H
BEGIN:VTIMEZONE
TZID:America/Phoenix
BEGIN:STANDARD
TZOFFSETFROM:-0700
TZOFFSETTO:-0700
TZNAME:MST
DTSTART:20240101T000000
END:STANDARD
END:VTIMEZONE
BEGIN:VEVENT
DTSTART;TZID=America/Phoenix:20250121T173000
DTEND;TZID=America/Phoenix:20250121T200000
DTSTAMP:20260423T112521
CREATED:20250117T170423Z
LAST-MODIFIED:20250117T170423Z
UID:22329-1737480600-1737489600@www.unitedskates.com
SUMMARY:Family Hip Hop and R and B Night
DESCRIPTION:Come Join us for some family time! \nThat’s right! 2 paid admissions get you 2 free admissions! \nBring the family over! \n$8 admission \n$5 Skate Rental \n$4 Non skating adults \n***Wristguards are Mandatory. Free of charge. \nNo Outside Food or Drinks.
URL:https://www.unitedskates.com/skateland-mesa/event/family-hip-hop-and-r-and-b-night/
CATEGORIES:Family Events,Public Skates,Special Events
ATTACH;FMTTYPE=image/png:https://unitedskates-assets.sfo3.digitaloceanspaces.com/wp-content/uploads/sites/20/2025/01/Family-R-and-B-Night-2.png
END:VEVENT
END:VCALENDAR