BEGIN:VCALENDAR
VERSION:2.0
PRODID:-//Rink 50 - Skateland Mesa - ECPv6.15.20//NONSGML v1.0//EN
CALSCALE:GREGORIAN
METHOD:PUBLISH
X-WR-CALNAME:Rink 50 - Skateland Mesa
X-ORIGINAL-URL:https://www.unitedskates.com/skateland-mesa
X-WR-CALDESC:Events for Rink 50 - Skateland Mesa
REFRESH-INTERVAL;VALUE=DURATION:PT1H
X-Robots-Tag:noindex
X-PUBLISHED-TTL:PT1H
BEGIN:VTIMEZONE
TZID:America/Phoenix
BEGIN:STANDARD
TZOFFSETFROM:-0700
TZOFFSETTO:-0700
TZNAME:MST
DTSTART:20240101T000000
END:STANDARD
END:VTIMEZONE
BEGIN:VEVENT
DTSTART;TZID=America/Phoenix:20250117T180000
DTEND;TZID=America/Phoenix:20250120T203000
DTSTAMP:20260423T101144
CREATED:20250102T161532Z
LAST-MODIFIED:20250102T161532Z
UID:20861-1737136800-1737405000@www.unitedskates.com
SUMMARY:MLK Weekend Roller Skating
DESCRIPTION:🎉 School’s Out! Let’s Roll Into MLK Weekend Fun! 🛼✨ \nJoin us at Skateland Mesa for an exciting MLK Weekend filled with music\, laughter\, and unforgettable skating sessions. Bring your family and friends for themed events and a great time on wheels! \n🗓 Weekend Highlights: \n✨ Friday\, Jan 17: \n\nLin Manuel Birthday Skate: 6:00 PM–9:00 PM ($13 Admission)\nMeet Maui and Mirabel for a magical evening of fun!\n\n✨ Saturday\, Jan 18: \n\nSkate School: 9:00 AM–10:00 AM ($11 Admission)\nMystery Character Skate: 10:00 AM–12:30 PM ($11 Admission)\nPublic Skate: 1:00 PM–3:30 PM ($11 Admission)\nGlow Skate: 4:00 PM–6:30 PM ($11 Admission)\nJam Skate: 7:00 PM–9:30 PM ($11 Admission)\n\n✨ Sunday\, Jan 19: \n\nPublic Skate: 12:00 PM–2:30 PM ($11 Admission)\nPublic Skate: 3:00 PM–5:30 PM ($11 Admission)\nOld School Adult Skate: 9:00 PM–11:30 PM ($13 Admission)\n\n✨ Monday\, Jan 20 (MLK Jr. Day): \n\nMLK Peace and Love Skate with Carebears: 10:00 AM–2:30 PM ($11 Admission)\nIncludes a peace and love arts and crafts table.\nMotown Monday with the Minions: 3:00 PM–5:30 PM ($11 Admission)\nJersey Night R&B and Hip-Hop Skate: 6:00 PM–8:30 PM ($12 Admission\, $2 off if you wear a jersey)\n\n📍 Where:\nSkateland Mesa\n7 E. Southern Ave\, Mesa\, AZ 85210 \n📞 Contact: 480-833-7775\n💻 Details: www.skatelandmesa.com \n🎶 $5 Skate Rentals | Wristguards are provided free of charge\n🌟 Ages 17 & under must be accompanied by an adult age 23+. \nCelebrate MLK Weekend with skating fun for all ages! Don’t miss the themed events\, character meet-and-greets\, and more. See you on the rink! 🛼🎉
URL:https://www.unitedskates.com/skateland-mesa/event/mlk-weekend-roller-skating/
CATEGORIES:Family Events,Public Skates,Special Events
ATTACH;FMTTYPE=image/jpeg:https://unitedskates-assets.sfo3.digitaloceanspaces.com/wp-content/uploads/sites/20/2025/01/MLK-weekend-break-2025-calendar-Front-rink50.jpg
END:VEVENT
BEGIN:VEVENT
DTSTART;TZID=America/Phoenix:20250120T100000
DTEND;TZID=America/Phoenix:20250120T143000
DTSTAMP:20260423T101144
CREATED:20241130T051440Z
LAST-MODIFIED:20241130T051457Z
UID:20703-1737367200-1737383400@www.unitedskates.com
SUMMARY:MLK Peace and Love Skate With Carebears
DESCRIPTION:Come celebrate MLK day with peace and love!\n\nTake pictures with the Carebears \n\nJump in our indoor bounce house!\n\nMake some ” I have a dream” arts and crafts\n\n$11 admission\n\n$5 Skate Rental\n\n$4 non skating adults
URL:https://www.unitedskates.com/skateland-mesa/event/mlk-peace-and-love-skate/
CATEGORIES:Family Events,Public Skates,Special Events
ATTACH;FMTTYPE=image/png:https://unitedskates-assets.sfo3.digitaloceanspaces.com/wp-content/uploads/sites/20/2024/11/Monday-January-20th.png
END:VEVENT
BEGIN:VEVENT
DTSTART;TZID=America/Phoenix:20250120T180000
DTEND;TZID=America/Phoenix:20250120T203000
DTSTAMP:20260423T101144
CREATED:20241130T062243Z
LAST-MODIFIED:20241130T062243Z
UID:20713-1737396000-1737405000@www.unitedskates.com
SUMMARY:Jersey Night Hip Hop and R&B Skate
DESCRIPTION:Ending Martin Luther King Day with a Jersey night! \nCome skate to your favorite Hip Hop and R & B Music ALL NIGHT LONG! \nDon’t Forget to Wear your Favorite Jersey! Receive $2 off admission! \n$12 Admission \n$4 Non skating adult \n$5 Skate Rental \n 
URL:https://www.unitedskates.com/skateland-mesa/event/jersey-night-hip-hop-and-rb-skate/
CATEGORIES:Family Events,Public Skates,Special Events
ATTACH;FMTTYPE=image/png:https://unitedskates-assets.sfo3.digitaloceanspaces.com/wp-content/uploads/sites/20/2024/11/Monday-January-20th-1.png
END:VEVENT
END:VCALENDAR