BEGIN:VCALENDAR
VERSION:2.0
PRODID:-//Rink 50 - Skateland Mesa - ECPv6.15.20//NONSGML v1.0//EN
CALSCALE:GREGORIAN
METHOD:PUBLISH
X-ORIGINAL-URL:https://www.unitedskates.com/skateland-mesa
X-WR-CALDESC:Events for Rink 50 - Skateland Mesa
REFRESH-INTERVAL;VALUE=DURATION:PT1H
X-Robots-Tag:noindex
X-PUBLISHED-TTL:PT1H
BEGIN:VTIMEZONE
TZID:America/Phoenix
BEGIN:STANDARD
TZOFFSETFROM:-0700
TZOFFSETTO:-0700
TZNAME:MST
DTSTART:20230101T000000
END:STANDARD
END:VTIMEZONE
BEGIN:VEVENT
DTSTART;TZID=America/Phoenix:20241219T080000
DTEND;TZID=America/Phoenix:20250105T210000
DTSTAMP:20260423T112932
CREATED:20241111T151035Z
LAST-MODIFIED:20241126T191424Z
UID:20627-1734595200-1736110800@www.unitedskates.com
SUMMARY:🎄🛼 Celebrate Winter Break at Skateland Mesa! 🛼🎄
DESCRIPTION:Looking for non-stop fun this holiday season? Skateland Mesa has you covered with an exciting lineup of Winter Break events perfect for all ages! 🌟 \n🗓️ Event Highlights:\n🎅 Dec 20: Skate with Gingy & Friday Night Glow Skate – festive vibes guaranteed!\n❄️ Dec 24: Polar Express Skate – all aboard for holiday magic on wheels!\n🎄 Dec 25: Merry Stitchmas Skate – holiday fun with your favorite character!\n🌟 Dec 30: Enchanted Breakfast & Minion Glow Skate!\n🎉 Dec 31: Ring in 2024 with our Mickey & Minions New Year’s Eve Parties! \n🎟️ Affordable Family Fun: \n\nAdmission starts at just $11\n$4.50 Skate Rentals\nWristguards are provided free for all skaters\n\n📍 Location: 7 E. Southern Ave\, Mesa\, AZ 85210\n📞 Contact: 480-833-7775\n🌐 Visit www.skatelandmesa.com for the full Winter Break schedule! \nFrom glow skate nights to character meet-and-greets and New Year’s Eve celebrations\, there’s something for everyone. Bring your family and friends\, and let’s roll into the holidays together! 🛼✨ \n 
URL:https://www.unitedskates.com/skateland-mesa/event/%f0%9f%8e%84%f0%9f%8e%85%f0%9f%8f%bd%f0%9f%8e%84winter-break-roller-skating%f0%9f%8e%84%f0%9f%8e%85%f0%9f%8f%bd%f0%9f%8e%84/
CATEGORIES:Adult Events,Family Events,Public Skates,Special Events
ATTACH;FMTTYPE=image/jpeg:https://unitedskates-assets.sfo3.digitaloceanspaces.com/wp-content/uploads/sites/20/2024/11/Winter-Break-Calendar-front-2024-50.jpg
END:VEVENT
BEGIN:VEVENT
DTSTART;TZID=America/Phoenix:20241227T100000
DTEND;TZID=America/Phoenix:20241227T143000
DTSTAMP:20260423T112932
CREATED:20241028T211131Z
LAST-MODIFIED:20241028T211131Z
UID:20558-1735293600-1735309800@www.unitedskates.com
SUMMARY:Spongebob VS Patrick Snowball Fight Skate
DESCRIPTION:❄️ Come join us for Spongebob VS Patrick Snowball fight skate❄️ \n📷 Take Pictures with Spongebob and Patrick📷 \n🟡Are you team Pink or Yellow? Wear your team color to get $1 off admission !🟡 \nEnjoy our Spongebob and Patrick Cafe Specials ! \n$11 admission \n$4.50 Skate Rental \n$4 Non-skating adults
URL:https://www.unitedskates.com/skateland-mesa/event/spongebob-vs-patrick-snowball-fight-skate/
CATEGORIES:Family Events,Public Skates,Special Events
ATTACH;FMTTYPE=image/png:https://unitedskates-assets.sfo3.digitaloceanspaces.com/wp-content/uploads/sites/20/2024/10/Spongebob-VS-patrick-Snowball-fight-.png
END:VEVENT
BEGIN:VEVENT
DTSTART;TZID=America/Phoenix:20241227T150000
DTEND;TZID=America/Phoenix:20241227T173000
DTSTAMP:20260423T112932
CREATED:20241028T212350Z
LAST-MODIFIED:20241028T212350Z
UID:20561-1735311600-1735320600@www.unitedskates.com
SUMMARY:Patrick VS Spongebob Snowball Fight Skate
DESCRIPTION:❄️ Come join us for Spongebob VS Patrick Snowball fight skate❄️ \n📷 Take Pictures with Spongebob and Patrick📷 \n🟡Are you team Pink or Yellow? Wear your team color to get $1 off admission !🟡 \nEnjoy our Spongebob and Patrick Cafe Specials ! \n$11 admission \n$4.50 Skate Rental \n$4 Non-skating adults
URL:https://www.unitedskates.com/skateland-mesa/event/patrick-vs-spongebob-snowball-fight-skate/
CATEGORIES:Family Events,Public Skates,Special Events
ATTACH;FMTTYPE=image/png:https://unitedskates-assets.sfo3.digitaloceanspaces.com/wp-content/uploads/sites/20/2024/10/Spongebob-VS-patrick-Snowball-fight-1.png
END:VEVENT
BEGIN:VEVENT
DTSTART;TZID=America/Phoenix:20241227T180000
DTEND;TZID=America/Phoenix:20241227T210000
DTSTAMP:20260423T112932
CREATED:20241028T212504Z
LAST-MODIFIED:20241028T212504Z
UID:20564-1735322400-1735333200@www.unitedskates.com
SUMMARY:Patrick Vs Spongebob Snowball  Fight Skate
DESCRIPTION:❄️ Come join us for Spongebob VS Patrick Snowball fight skate❄️ \n📷 Take Pictures with Spongebob and Patrick📷 \n🟡Are you team Pink or Yellow? Wear your team color to get $1 off admission !🟡 \nEnjoy our Spongebob and Patrick Cafe Specials ! \n$11 admission \n$4.50 Skate Rental \n$4 Non-skating adults
URL:https://www.unitedskates.com/skateland-mesa/event/patrick-vs-spongebob-snowball-fight-skate-2/
CATEGORIES:Family Events,Public Skates,Special Events
ATTACH;FMTTYPE=image/png:https://unitedskates-assets.sfo3.digitaloceanspaces.com/wp-content/uploads/sites/20/2024/10/Spongebob-VS-patrick-Snowball-fight-2.png
END:VEVENT
END:VCALENDAR