BEGIN:VCALENDAR
VERSION:2.0
PRODID:-//Rink 50 - Skateland Mesa - ECPv6.15.20//NONSGML v1.0//EN
CALSCALE:GREGORIAN
METHOD:PUBLISH
X-ORIGINAL-URL:https://www.unitedskates.com/skateland-mesa
X-WR-CALDESC:Events for Rink 50 - Skateland Mesa
REFRESH-INTERVAL;VALUE=DURATION:PT1H
X-Robots-Tag:noindex
X-PUBLISHED-TTL:PT1H
BEGIN:VTIMEZONE
TZID:America/Phoenix
BEGIN:STANDARD
TZOFFSETFROM:-0700
TZOFFSETTO:-0700
TZNAME:MST
DTSTART:20230101T000000
END:STANDARD
END:VTIMEZONE
BEGIN:VEVENT
DTSTART;TZID=America/Phoenix:20241219T080000
DTEND;TZID=America/Phoenix:20250105T210000
DTSTAMP:20260423T170725
CREATED:20241111T151035Z
LAST-MODIFIED:20241126T191424Z
UID:20627-1734595200-1736110800@www.unitedskates.com
SUMMARY:🎄🛼 Celebrate Winter Break at Skateland Mesa! 🛼🎄
DESCRIPTION:Looking for non-stop fun this holiday season? Skateland Mesa has you covered with an exciting lineup of Winter Break events perfect for all ages! 🌟 \n🗓️ Event Highlights:\n🎅 Dec 20: Skate with Gingy & Friday Night Glow Skate – festive vibes guaranteed!\n❄️ Dec 24: Polar Express Skate – all aboard for holiday magic on wheels!\n🎄 Dec 25: Merry Stitchmas Skate – holiday fun with your favorite character!\n🌟 Dec 30: Enchanted Breakfast & Minion Glow Skate!\n🎉 Dec 31: Ring in 2024 with our Mickey & Minions New Year’s Eve Parties! \n🎟️ Affordable Family Fun: \n\nAdmission starts at just $11\n$4.50 Skate Rentals\nWristguards are provided free for all skaters\n\n📍 Location: 7 E. Southern Ave\, Mesa\, AZ 85210\n📞 Contact: 480-833-7775\n🌐 Visit www.skatelandmesa.com for the full Winter Break schedule! \nFrom glow skate nights to character meet-and-greets and New Year’s Eve celebrations\, there’s something for everyone. Bring your family and friends\, and let’s roll into the holidays together! 🛼✨ \n 
URL:https://www.unitedskates.com/skateland-mesa/event/%f0%9f%8e%84%f0%9f%8e%85%f0%9f%8f%bd%f0%9f%8e%84winter-break-roller-skating%f0%9f%8e%84%f0%9f%8e%85%f0%9f%8f%bd%f0%9f%8e%84/
CATEGORIES:Adult Events,Family Events,Public Skates,Special Events
ATTACH;FMTTYPE=image/jpeg:https://unitedskates-assets.sfo3.digitaloceanspaces.com/wp-content/uploads/sites/20/2024/11/Winter-Break-Calendar-front-2024-50.jpg
END:VEVENT
BEGIN:VEVENT
DTSTART;TZID=America/Phoenix:20241224T100000
DTEND;TZID=America/Phoenix:20241224T130000
DTSTAMP:20260423T170725
CREATED:20241025T211548Z
LAST-MODIFIED:20241025T211737Z
UID:20535-1735034400-1735045200@www.unitedskates.com
SUMMARY:Polar Express Skate
DESCRIPTION:❄️ All aboard the Polar Express skate❄️ \nWear your Pajamas and come skate listen to your favorite soundtrack! \nPlay Polar Express Trivia while watching the movie! \n📷 Come take pictures with our train conductor!📷 \n☕️ Hot Cocoa bar and Dream Bells Available!🔔 \n$11 Admission \n$4.50 Skate rental \n$4 Non-skating adult
URL:https://www.unitedskates.com/skateland-mesa/event/polar-express-skate-3/
CATEGORIES:Family Events,Public Skates,Special Events
ATTACH;FMTTYPE=image/png:https://unitedskates-assets.sfo3.digitaloceanspaces.com/wp-content/uploads/sites/20/2024/10/Tuesday.png
END:VEVENT
BEGIN:VEVENT
DTSTART;TZID=America/Phoenix:20241224T133000
DTEND;TZID=America/Phoenix:20241224T160000
DTSTAMP:20260423T170725
CREATED:20241025T212332Z
LAST-MODIFIED:20241025T212332Z
UID:20538-1735047000-1735056000@www.unitedskates.com
SUMMARY:Polar Express Skate
DESCRIPTION: All aboard the Polar Express skate\n\nWear your Pajamas and come skate listen to your favorite soundtrack!\n\nPlay Polar Express Trivia while watching the movie!\n\n Come take pictures with our train conductor!\n\n Hot Cocoa bar and Dream Bells Available!\n\n$11 Admission\n\n$4.50 Skate rental\n\n$4 Non-skating adult
URL:https://www.unitedskates.com/skateland-mesa/event/polar-express-skate-4/
CATEGORIES:Family Events,Public Skates,Special Events
ATTACH;FMTTYPE=image/png:https://unitedskates-assets.sfo3.digitaloceanspaces.com/wp-content/uploads/sites/20/2024/10/Tues.png
END:VEVENT
END:VCALENDAR