BEGIN:VCALENDAR
VERSION:2.0
PRODID:-//Rink 50 - Skateland Mesa - ECPv6.15.20//NONSGML v1.0//EN
CALSCALE:GREGORIAN
METHOD:PUBLISH
X-WR-CALNAME:Rink 50 - Skateland Mesa
X-ORIGINAL-URL:https://www.unitedskates.com/skateland-mesa
X-WR-CALDESC:Events for Rink 50 - Skateland Mesa
REFRESH-INTERVAL;VALUE=DURATION:PT1H
X-Robots-Tag:noindex
X-PUBLISHED-TTL:PT1H
BEGIN:VTIMEZONE
TZID:America/Phoenix
BEGIN:STANDARD
TZOFFSETFROM:-0700
TZOFFSETTO:-0700
TZNAME:MST
DTSTART:20230101T000000
END:STANDARD
END:VTIMEZONE
BEGIN:VEVENT
DTSTART;TZID=America/Phoenix:20241219T080000
DTEND;TZID=America/Phoenix:20250105T210000
DTSTAMP:20260423T193816
CREATED:20241111T151035Z
LAST-MODIFIED:20241126T191424Z
UID:20627-1734595200-1736110800@www.unitedskates.com
SUMMARY:🎄🛼 Celebrate Winter Break at Skateland Mesa! 🛼🎄
DESCRIPTION:Looking for non-stop fun this holiday season? Skateland Mesa has you covered with an exciting lineup of Winter Break events perfect for all ages! 🌟 \n🗓️ Event Highlights:\n🎅 Dec 20: Skate with Gingy & Friday Night Glow Skate – festive vibes guaranteed!\n❄️ Dec 24: Polar Express Skate – all aboard for holiday magic on wheels!\n🎄 Dec 25: Merry Stitchmas Skate – holiday fun with your favorite character!\n🌟 Dec 30: Enchanted Breakfast & Minion Glow Skate!\n🎉 Dec 31: Ring in 2024 with our Mickey & Minions New Year’s Eve Parties! \n🎟️ Affordable Family Fun: \n\nAdmission starts at just $11\n$4.50 Skate Rentals\nWristguards are provided free for all skaters\n\n📍 Location: 7 E. Southern Ave\, Mesa\, AZ 85210\n📞 Contact: 480-833-7775\n🌐 Visit www.skatelandmesa.com for the full Winter Break schedule! \nFrom glow skate nights to character meet-and-greets and New Year’s Eve celebrations\, there’s something for everyone. Bring your family and friends\, and let’s roll into the holidays together! 🛼✨ \n 
URL:https://www.unitedskates.com/skateland-mesa/event/%f0%9f%8e%84%f0%9f%8e%85%f0%9f%8f%bd%f0%9f%8e%84winter-break-roller-skating%f0%9f%8e%84%f0%9f%8e%85%f0%9f%8f%bd%f0%9f%8e%84/
CATEGORIES:Adult Events,Family Events,Public Skates,Special Events
ATTACH;FMTTYPE=image/jpeg:https://unitedskates-assets.sfo3.digitaloceanspaces.com/wp-content/uploads/sites/20/2024/11/Winter-Break-Calendar-front-2024-50.jpg
END:VEVENT
BEGIN:VEVENT
DTSTART;TZID=America/Phoenix:20241223T100000
DTEND;TZID=America/Phoenix:20241223T143000
DTSTAMP:20260423T193816
CREATED:20241023T224301Z
LAST-MODIFIED:20241023T224301Z
UID:20518-1734948000-1734964200@www.unitedskates.com
SUMMARY:Winter Carnival
DESCRIPTION:🎶 Come skate to your favorite Holiday Jams🎶 \n📷 Take family pictures with Santa and his holiday friends📷 \nCome bounce around in our bounce house\, get your face painted\, and play our FUN carnival games! \nONLY $35 – Includes one topping pizza with a pitcher and 50 game credits \n$11 Admission \n$4.50 Skate Rental \n$4 non-skating adult \n**No Free Passes
URL:https://www.unitedskates.com/skateland-mesa/event/winter-carnival/
CATEGORIES:Family Events,Public Skates,Special Events
ATTACH;FMTTYPE=image/png:https://unitedskates-assets.sfo3.digitaloceanspaces.com/wp-content/uploads/sites/20/2024/10/Monday-December-23rd-10am-230pm-4.png
END:VEVENT
BEGIN:VEVENT
DTSTART;TZID=America/Phoenix:20241223T150000
DTEND;TZID=America/Phoenix:20241223T173000
DTSTAMP:20260423T193816
CREATED:20241023T225139Z
LAST-MODIFIED:20241023T225139Z
UID:20522-1734966000-1734975000@www.unitedskates.com
SUMMARY:Winter Carnival
DESCRIPTION:🎶Come skate to your favorite Holiday Jams!🎶\n\n📷Take family pictures with Santa and his holiday friends!📷\n\nCome bounce around in our bounce house\, get your face painted\, and play our FUN carnival games!\n\nONLY $35 – Includes one topping pizza with a pitcher and 50 game credits\n\n$11 Admission\n\n$4.50 Skate Rental\n\n$4 non-skating adult\n\n**No Free Passes
URL:https://www.unitedskates.com/skateland-mesa/event/winter-carnival-2/
CATEGORIES:Family Events,Public Skates,Special Events
ATTACH;FMTTYPE=image/png:https://unitedskates-assets.sfo3.digitaloceanspaces.com/wp-content/uploads/sites/20/2024/10/Monday-December-23rd-10am-230pm-5.png
END:VEVENT
BEGIN:VEVENT
DTSTART;TZID=America/Phoenix:20241223T180000
DTEND;TZID=America/Phoenix:20241223T203000
DTSTAMP:20260423T193816
CREATED:20241023T225645Z
LAST-MODIFIED:20241023T225645Z
UID:20525-1734976800-1734985800@www.unitedskates.com
SUMMARY:Winter Carnival
DESCRIPTION:🎶Come skate to your favorite Holiday Jams!🎶\n\n📷Take family pictures with Santa and his holiday friends!📷\n\nCome bounce around in our bounce house\, get your face painted\, and play our FUN carnival games!\n\nONLY $35 – Includes one topping pizza with a pitcher and 50 game credits\n\n$11 Admission\n\n$4.50 Skate Rental\n\n$4 non-skating adult\n\n**No Free Passes
URL:https://www.unitedskates.com/skateland-mesa/event/winter-carnival-3/
CATEGORIES:Family Events,Public Skates,Special Events
ATTACH;FMTTYPE=image/png:https://unitedskates-assets.sfo3.digitaloceanspaces.com/wp-content/uploads/sites/20/2024/10/Monday-December-23rd-10am-230pm-3.png
END:VEVENT
END:VCALENDAR