BEGIN:VCALENDAR
VERSION:2.0
PRODID:-//Rink 50 - Skateland Mesa - ECPv6.15.20//NONSGML v1.0//EN
CALSCALE:GREGORIAN
METHOD:PUBLISH
X-ORIGINAL-URL:https://www.unitedskates.com/skateland-mesa
X-WR-CALDESC:Events for Rink 50 - Skateland Mesa
REFRESH-INTERVAL;VALUE=DURATION:PT1H
X-Robots-Tag:noindex
X-PUBLISHED-TTL:PT1H
BEGIN:VTIMEZONE
TZID:America/Phoenix
BEGIN:STANDARD
TZOFFSETFROM:-0700
TZOFFSETTO:-0700
TZNAME:MST
DTSTART:20230101T000000
END:STANDARD
END:VTIMEZONE
BEGIN:VEVENT
DTSTART;TZID=America/Phoenix:20241213T180000
DTEND;TZID=America/Phoenix:20241213T210000
DTSTAMP:20260424T065131
CREATED:20240923T220024Z
LAST-MODIFIED:20240923T220024Z
UID:20073-1734112800-1734123600@www.unitedskates.com
SUMMARY:Back to December Taylor Swift Skate
DESCRIPTION:Calling all Swifties!\nCome out and celebrate Taylor’s Birthday at our Back to December Skate! \nSkate to the best Taylor Swift music all session long!\nCafe Specials!\nFriendship Bracelet Station and a Temporary Tattoo Station! \nFriday December 13th\, 6:00-9:00pm \n$13.00 Admission\n$4.50 Roller Skate/blade Rental\n$4.00 Non-Skating Adults \n 
URL:https://www.unitedskates.com/skateland-mesa/event/back-to-december-taylor-swift-skate/
CATEGORIES:Family Events,Public Skates,Special Events
ATTACH;FMTTYPE=image/jpeg:https://unitedskates-assets.sfo3.digitaloceanspaces.com/wp-content/uploads/sites/20/2024/09/back-to-december-skate-2024.jpg
END:VEVENT
END:VCALENDAR