BEGIN:VCALENDAR
VERSION:2.0
PRODID:-//Rink 50 - Skateland Mesa - ECPv6.15.20//NONSGML v1.0//EN
CALSCALE:GREGORIAN
METHOD:PUBLISH
X-ORIGINAL-URL:https://www.unitedskates.com/skateland-mesa
X-WR-CALDESC:Events for Rink 50 - Skateland Mesa
REFRESH-INTERVAL;VALUE=DURATION:PT1H
X-Robots-Tag:noindex
X-PUBLISHED-TTL:PT1H
BEGIN:VTIMEZONE
TZID:America/Phoenix
BEGIN:STANDARD
TZOFFSETFROM:-0700
TZOFFSETTO:-0700
TZNAME:MST
DTSTART:20230101T000000
END:STANDARD
END:VTIMEZONE
BEGIN:VEVENT
DTSTART;TZID=America/Phoenix:20241207T100000
DTEND;TZID=America/Phoenix:20241207T123000
DTSTAMP:20260423T194020
CREATED:20241009T210348Z
LAST-MODIFIED:20241202T194749Z
UID:20282-1733565600-1733574600@www.unitedskates.com
SUMMARY:Letters to Santa
DESCRIPTION:🎄Join us for our Letters to Santa skate! 🎄 \n🎅🏼Of course we will be writing our wish list to Santa with  Rudolph and Frosty the Snowman!🎅🏼 \n☃️ Come skate to the best holiday music!☃️ \n$11 Admission \n$4.50 Skate Rental \n$4.oo Non-skating Adult \n  \n 
URL:https://www.unitedskates.com/skateland-mesa/event/letters-to-santa/
CATEGORIES:Family Events,Public Skates,Special Events
ATTACH;FMTTYPE=image/png:https://unitedskates-assets.sfo3.digitaloceanspaces.com/wp-content/uploads/sites/20/2024/10/Letters-to-Santa.png
END:VEVENT
END:VCALENDAR