BEGIN:VCALENDAR
VERSION:2.0
PRODID:-//Rink 50 - Skateland Mesa - ECPv6.15.20//NONSGML v1.0//EN
CALSCALE:GREGORIAN
METHOD:PUBLISH
X-WR-CALNAME:Rink 50 - Skateland Mesa
X-ORIGINAL-URL:https://www.unitedskates.com/skateland-mesa
X-WR-CALDESC:Events for Rink 50 - Skateland Mesa
REFRESH-INTERVAL;VALUE=DURATION:PT1H
X-Robots-Tag:noindex
X-PUBLISHED-TTL:PT1H
BEGIN:VTIMEZONE
TZID:America/Phoenix
BEGIN:STANDARD
TZOFFSETFROM:-0700
TZOFFSETTO:-0700
TZNAME:MST
DTSTART:20230101T000000
END:STANDARD
END:VTIMEZONE
BEGIN:VEVENT
DTSTART;TZID=America/Phoenix:20241126T100000
DTEND;TZID=America/Phoenix:20241201T203000
DTSTAMP:20260423T193848
CREATED:20241007T203708Z
LAST-MODIFIED:20241007T203708Z
UID:20260-1732615200-1733085000@www.unitedskates.com
SUMMARY:Thanksgiving Break 2024
DESCRIPTION:Join Us During Thanksgiving Break! \nWe have many great events for everyone! \nWe have Stitch Skate\, Food Drive Skate\, Black Friday Skate\, Jam Skate and More! \nCheck Our Schedule for Times and Admission Prices. \nMake Plans to Come Out and Roll with Us!🛼🛼
URL:https://www.unitedskates.com/skateland-mesa/event/thanksgiving-break-2024/
CATEGORIES:Family Events,Public Skates,Special Events
ATTACH;FMTTYPE=image/jpeg:https://unitedskates-assets.sfo3.digitaloceanspaces.com/wp-content/uploads/sites/20/2024/10/Thanksgiving-Break-2024-calendar-50.jpg
END:VEVENT
BEGIN:VEVENT
DTSTART;TZID=America/Phoenix:20241129T100000
DTEND;TZID=America/Phoenix:20241129T143000
DTSTAMP:20260423T193848
CREATED:20241010T182013Z
LAST-MODIFIED:20241010T182013Z
UID:20285-1732874400-1732890600@www.unitedskates.com
SUMMARY:Black Friday Skate!
DESCRIPTION:🦃 Come Join us for Our Black Friday Skate!🦃\n\n⚫️Don’t miss out on our Black Friday deals!⚫️\n\nAdmission and skate rental will be $12!\nor\n4 Admission\, 4 glow sticks\, 4 skate rentals\, pizza and pitcher for $60!\n**Non skating adults $4.
URL:https://www.unitedskates.com/skateland-mesa/event/black-friday-skate-3/
CATEGORIES:Family Events,Public Skates,Special Events
ATTACH;FMTTYPE=image/jpeg:https://unitedskates-assets.sfo3.digitaloceanspaces.com/wp-content/uploads/sites/20/2024/10/ThanksgivingBreak-2024-calendar-backside-50.jpg
END:VEVENT
BEGIN:VEVENT
DTSTART;TZID=America/Phoenix:20241129T150000
DTEND;TZID=America/Phoenix:20241129T173000
DTSTAMP:20260423T193848
CREATED:20241010T182142Z
LAST-MODIFIED:20241010T182142Z
UID:20289-1732892400-1732901400@www.unitedskates.com
SUMMARY:Black Friday Skate!
DESCRIPTION:🦃 Come Join us for Our Black Friday Skate!🦃\n\n⚫️Don’t miss out on our Black Friday deals!⚫️\n\nAdmission and skate rental will be $12!\nor\n4 Admission\, 4 glow sticks\, 4 skate rentals\, pizza and pitcher for $60!\n**Non skating adults $4.
URL:https://www.unitedskates.com/skateland-mesa/event/black-friday-skate-4/
CATEGORIES:Family Events,Public Skates,Special Events
ATTACH;FMTTYPE=image/jpeg:https://unitedskates-assets.sfo3.digitaloceanspaces.com/wp-content/uploads/sites/20/2024/10/ThanksgivingBreak-2024-calendar-backside-50.jpg
END:VEVENT
BEGIN:VEVENT
DTSTART;TZID=America/Phoenix:20241129T180000
DTEND;TZID=America/Phoenix:20241129T200000
DTSTAMP:20260423T193848
CREATED:20241010T182257Z
LAST-MODIFIED:20241010T182257Z
UID:20291-1732903200-1732910400@www.unitedskates.com
SUMMARY:Black Friday Skate!
DESCRIPTION:🦃 Come Join us for Our Black Friday Skate!🦃\n\n⚫️Don’t miss out on our Black Friday deals!⚫️\n\nAdmission and skate rental will be $12!\nor\n4 Admission\, 4 glow sticks\, 4 skate rentals\, pizza and pitcher for $60!\n**Non skating adults $4.
URL:https://www.unitedskates.com/skateland-mesa/event/black-friday-skate-5/
CATEGORIES:Adult Events,Family Events,Public Skates,Special Events
ATTACH;FMTTYPE=image/jpeg:https://unitedskates-assets.sfo3.digitaloceanspaces.com/wp-content/uploads/sites/20/2024/10/ThanksgivingBreak-2024-calendar-backside-50.jpg
END:VEVENT
END:VCALENDAR