BEGIN:VCALENDAR
VERSION:2.0
PRODID:-//Rink 50 - Skateland Mesa - ECPv6.15.20//NONSGML v1.0//EN
CALSCALE:GREGORIAN
METHOD:PUBLISH
X-ORIGINAL-URL:https://www.unitedskates.com/skateland-mesa
X-WR-CALDESC:Events for Rink 50 - Skateland Mesa
REFRESH-INTERVAL;VALUE=DURATION:PT1H
X-Robots-Tag:noindex
X-PUBLISHED-TTL:PT1H
BEGIN:VTIMEZONE
TZID:America/Phoenix
BEGIN:STANDARD
TZOFFSETFROM:-0700
TZOFFSETTO:-0700
TZNAME:MST
DTSTART:20230101T000000
END:STANDARD
END:VTIMEZONE
BEGIN:VEVENT
DTSTART;TZID=America/Phoenix:20241126T100000
DTEND;TZID=America/Phoenix:20241126T123000
DTSTAMP:20260424T000213
CREATED:20241021T200902Z
LAST-MODIFIED:20241021T200902Z
UID:20436-1732615200-1732624200@www.unitedskates.com
SUMMARY:Stitch Skate Party!
DESCRIPTION:Come skate and listen to your favorite Disney Hit! \nDon’t forget to stop by and take pictures with Stitch! \nPlay Stitch Trivia! \nCheck out our Stitch Cafe Specials! \n$11 admission \n$4.50 skate rental \n$4 non skating adults \n 
URL:https://www.unitedskates.com/skateland-mesa/event/stitch-skate-party/
CATEGORIES:Family Events,Public Skates,Special Events
ATTACH;FMTTYPE=image/png:https://unitedskates-assets.sfo3.digitaloceanspaces.com/wp-content/uploads/sites/20/2024/10/Stitch-skate-.png
END:VEVENT
BEGIN:VEVENT
DTSTART;TZID=America/Phoenix:20241126T100000
DTEND;TZID=America/Phoenix:20241126T143000
DTSTAMP:20260424T000213
CREATED:20241008T142133Z
LAST-MODIFIED:20241008T142133Z
UID:20273-1732615200-1732631400@www.unitedskates.com
SUMMARY:Skate with Stitch
DESCRIPTION:Join Us During Thanksgiving Break and Meet Stitch! \nAdmission $11 \nSkate Rental $$4.50
URL:https://www.unitedskates.com/skateland-mesa/event/skate-with-stitch/
CATEGORIES:Family Events,Public Skates,Special Events
ATTACH;FMTTYPE=image/jpeg:https://unitedskates-assets.sfo3.digitaloceanspaces.com/wp-content/uploads/sites/20/2024/10/Skate-with-Stitch.jpg
END:VEVENT
BEGIN:VEVENT
DTSTART;TZID=America/Phoenix:20241126T100000
DTEND;TZID=America/Phoenix:20241201T203000
DTSTAMP:20260424T000213
CREATED:20241007T203708Z
LAST-MODIFIED:20241007T203708Z
UID:20260-1732615200-1733085000@www.unitedskates.com
SUMMARY:Thanksgiving Break 2024
DESCRIPTION:Join Us During Thanksgiving Break! \nWe have many great events for everyone! \nWe have Stitch Skate\, Food Drive Skate\, Black Friday Skate\, Jam Skate and More! \nCheck Our Schedule for Times and Admission Prices. \nMake Plans to Come Out and Roll with Us!🛼🛼
URL:https://www.unitedskates.com/skateland-mesa/event/thanksgiving-break-2024/
CATEGORIES:Family Events,Public Skates,Special Events
ATTACH;FMTTYPE=image/jpeg:https://unitedskates-assets.sfo3.digitaloceanspaces.com/wp-content/uploads/sites/20/2024/10/Thanksgiving-Break-2024-calendar-50.jpg
END:VEVENT
BEGIN:VEVENT
DTSTART;TZID=America/Phoenix:20241126T150000
DTEND;TZID=America/Phoenix:20241126T173000
DTSTAMP:20260424T000213
CREATED:20241008T143258Z
LAST-MODIFIED:20241008T143258Z
UID:20276-1732633200-1732642200@www.unitedskates.com
SUMMARY:Food Drive Skate
DESCRIPTION:Come Celebrate Thanksgiving Break with Us While Helping Those in Need \nAdmission $10 \n($2.00 Off Admission when you bring a canned or boxed food item) \nSkate Rental $4.50
URL:https://www.unitedskates.com/skateland-mesa/event/food-drive-skate/
CATEGORIES:Family Events,Public Skates,Special Events
ATTACH;FMTTYPE=image/png:https://unitedskates-assets.sfo3.digitaloceanspaces.com/wp-content/uploads/sites/20/2024/10/50-food-drive.png
END:VEVENT
BEGIN:VEVENT
DTSTART;TZID=America/Phoenix:20241126T150000
DTEND;TZID=America/Phoenix:20241126T173000
DTSTAMP:20260424T000213
CREATED:20241021T202013Z
LAST-MODIFIED:20241021T202013Z
UID:20440-1732633200-1732642200@www.unitedskates.com
SUMMARY:Food Drive With Stitch
DESCRIPTION:🥫 Food Drive With Stitch🥫 \nCome skate with Stitch! \n**Bring Boxed and/or canned unopened food to receive $2 off admission** \n$10 admission \n$4.50 skate rental \n$4 for non skating adults \nSpecial of the day: One topping pizza\,  a pitcher and 20 game credits for ONLY $25!
URL:https://www.unitedskates.com/skateland-mesa/event/food-drive-with-stitch/
CATEGORIES:Family Events,Public Skates,Special Events
ATTACH;FMTTYPE=image/png:https://unitedskates-assets.sfo3.digitaloceanspaces.com/wp-content/uploads/sites/20/2024/10/Come-skate-with-Stitch.png
END:VEVENT
BEGIN:VEVENT
DTSTART;TZID=America/Phoenix:20241126T180000
DTEND;TZID=America/Phoenix:20241126T203000
DTSTAMP:20260424T000213
CREATED:20241008T144239Z
LAST-MODIFIED:20241008T144239Z
UID:20279-1732644000-1732653000@www.unitedskates.com
SUMMARY:Olivia Rodrigo Music Skate
DESCRIPTION:Join Us This Thanksgiving Break \nOlivia Rodrigo Music & More! \nAdmission $11 \nSkate Rental $4.50
URL:https://www.unitedskates.com/skateland-mesa/event/olivia-rodrigo-music-skate/
CATEGORIES:Family Events,Public Skates,Special Events
ATTACH;FMTTYPE=image/png:https://unitedskates-assets.sfo3.digitaloceanspaces.com/wp-content/uploads/sites/20/2024/10/50-olivia.png
END:VEVENT
BEGIN:VEVENT
DTSTART;TZID=America/Phoenix:20241126T180000
DTEND;TZID=America/Phoenix:20241126T203000
DTSTAMP:20260424T000213
CREATED:20241021T204056Z
LAST-MODIFIED:20241021T204056Z
UID:20444-1732644000-1732653000@www.unitedskates.com
SUMMARY:Olivia Rodrigo Skate Night!
DESCRIPTION:Come skate to your favorite Olivia Rodrigo song! \nVisit our Olivia Rodrigo merch cart! \nDress up in your favorite Olivia Rodrigo outfit! \n$11 admission \n$4.50 Skate rental \n$4 non-skating adults \n 
URL:https://www.unitedskates.com/skateland-mesa/event/olivia-rodrigo-skate-night-2/
CATEGORIES:Family Events,Public Skates,Special Events
ATTACH;FMTTYPE=image/png:https://unitedskates-assets.sfo3.digitaloceanspaces.com/wp-content/uploads/sites/20/2024/10/Tuesday-November-26th-6pm-830pm.png
END:VEVENT
END:VCALENDAR