BEGIN:VCALENDAR
VERSION:2.0
PRODID:-//Rink 50 - Skateland Mesa - ECPv6.15.20//NONSGML v1.0//EN
CALSCALE:GREGORIAN
METHOD:PUBLISH
X-WR-CALNAME:Rink 50 - Skateland Mesa
X-ORIGINAL-URL:https://www.unitedskates.com/skateland-mesa
X-WR-CALDESC:Events for Rink 50 - Skateland Mesa
REFRESH-INTERVAL;VALUE=DURATION:PT1H
X-Robots-Tag:noindex
X-PUBLISHED-TTL:PT1H
BEGIN:VTIMEZONE
TZID:America/Phoenix
BEGIN:STANDARD
TZOFFSETFROM:-0700
TZOFFSETTO:-0700
TZNAME:MST
DTSTART:20230101T000000
END:STANDARD
END:VTIMEZONE
BEGIN:VEVENT
DTSTART;TZID=America/Phoenix:20241124T150000
DTEND;TZID=America/Phoenix:20241124T173000
DTSTAMP:20260423T193837
CREATED:20241004T035545Z
LAST-MODIFIED:20241004T035545Z
UID:20168-1732460400-1732469400@www.unitedskates.com
SUMMARY:Yule Ball Friendsgiving
DESCRIPTION:🧙🏽‍♂️Yule Ball Friendsgiving🧙🏽‍♂️ \nBring your friends and enjoy a spell- bonding friendsgiving! \nWear your wizard attire and show off your favorite house! \nAdmission: $11 \nSkate Rental: $4.50 \nNon-skating adults: $4
URL:https://www.unitedskates.com/skateland-mesa/event/yule-ball-friendsgiving/
CATEGORIES:Family Events,Public Skates,Special Events
ATTACH;FMTTYPE=image/png:https://unitedskates-assets.sfo3.digitaloceanspaces.com/wp-content/uploads/sites/20/2024/10/Donuts-with-Mirabel-12-15-2.png
END:VEVENT
END:VCALENDAR