BEGIN:VCALENDAR
VERSION:2.0
PRODID:-//Rink 50 - Skateland Mesa - ECPv6.15.20//NONSGML v1.0//EN
CALSCALE:GREGORIAN
METHOD:PUBLISH
X-ORIGINAL-URL:https://www.unitedskates.com/skateland-mesa
X-WR-CALDESC:Events for Rink 50 - Skateland Mesa
REFRESH-INTERVAL;VALUE=DURATION:PT1H
X-Robots-Tag:noindex
X-PUBLISHED-TTL:PT1H
BEGIN:VTIMEZONE
TZID:America/Phoenix
BEGIN:STANDARD
TZOFFSETFROM:-0700
TZOFFSETTO:-0700
TZNAME:MST
DTSTART:20230101T000000
END:STANDARD
END:VTIMEZONE
BEGIN:VEVENT
DTSTART;TZID=America/Phoenix:20241110T180000
DTEND;TZID=America/Phoenix:20241110T203000
DTSTAMP:20260424T110309
CREATED:20240702T213908Z
LAST-MODIFIED:20240820T225217Z
UID:19667-1731261600-1731270600@www.unitedskates.com
SUMMARY:Public Session Canceled due to Private Event
DESCRIPTION:We are closed due to a private party.\n\nOur Sunday 6:00-8:30pm session will resume next week on November 17th.\nAdmission is $11 \nSkate rentals are available for $4.50 \n$4.00 Non-Skating Adults \nWrist guards are mandatory for all skaters!
URL:https://www.unitedskates.com/skateland-mesa/event/public-session-2-2024-11-10/
LOCATION:Skateland Mesa\, 7 E. Southern Ave.\, Mesa\, AZ\, 85210\, United States
CATEGORIES:Family Events,Public Skates
ATTACH;FMTTYPE=image/jpeg:https://unitedskates-assets.sfo3.digitaloceanspaces.com/wp-content/uploads/sites/20/2024/07/private-Closed-Rink-Tile-1200x1200-1.jpg
END:VEVENT
END:VCALENDAR