BEGIN:VCALENDAR
VERSION:2.0
PRODID:-//Rink 50 - Skateland Mesa - ECPv6.15.20//NONSGML v1.0//EN
CALSCALE:GREGORIAN
METHOD:PUBLISH
X-WR-CALNAME:Rink 50 - Skateland Mesa
X-ORIGINAL-URL:https://www.unitedskates.com/skateland-mesa
X-WR-CALDESC:Events for Rink 50 - Skateland Mesa
REFRESH-INTERVAL;VALUE=DURATION:PT1H
X-Robots-Tag:noindex
X-PUBLISHED-TTL:PT1H
BEGIN:VTIMEZONE
TZID:America/Phoenix
BEGIN:STANDARD
TZOFFSETFROM:-0700
TZOFFSETTO:-0700
TZNAME:MST
DTSTART:20230101T000000
END:STANDARD
END:VTIMEZONE
BEGIN:VEVENT
DTSTART;TZID=America/Phoenix:20241101T180000
DTEND;TZID=America/Phoenix:20241101T210000
DTSTAMP:20260424T074828
CREATED:20241023T221709Z
LAST-MODIFIED:20241023T221709Z
UID:20516-1730484000-1730494800@www.unitedskates.com
SUMMARY:One Direction Tribute Skate
DESCRIPTION:Come skate to your favorite One Direction song\n\nDon’t forget to check out our One Direction merch cart.\n\nWe will be having a moment of silence for Liam Payne.\n\nWe will also be having a Liam Payne memorial area to pay our respects and go through the years of our amazing 1D star.\n\n$13 Admission includes a free glow stick\n\n$4.50 for skate rental\n\n$4 for non-skating adults\n\n***No Free Passes
URL:https://www.unitedskates.com/skateland-mesa/event/one-direction-tribute-skate-2/
CATEGORIES:Family Events,Public Skates,Special Events
ATTACH;FMTTYPE=image/png:https://unitedskates-assets.sfo3.digitaloceanspaces.com/wp-content/uploads/sites/20/2024/10/Untitled-design-3.png
END:VEVENT
END:VCALENDAR