BEGIN:VCALENDAR
VERSION:2.0
PRODID:-//Rink 50 - Skateland Mesa - ECPv6.15.20//NONSGML v1.0//EN
CALSCALE:GREGORIAN
METHOD:PUBLISH
X-ORIGINAL-URL:https://www.unitedskates.com/skateland-mesa
X-WR-CALDESC:Events for Rink 50 - Skateland Mesa
REFRESH-INTERVAL;VALUE=DURATION:PT1H
X-Robots-Tag:noindex
X-PUBLISHED-TTL:PT1H
BEGIN:VTIMEZONE
TZID:America/Phoenix
BEGIN:STANDARD
TZOFFSETFROM:-0700
TZOFFSETTO:-0700
TZNAME:MST
DTSTART:20230101T000000
END:STANDARD
END:VTIMEZONE
BEGIN:VEVENT
DTSTART;TZID=America/Phoenix:20241030T180000
DTEND;TZID=America/Phoenix:20241030T203000
DTSTAMP:20260424T075143
CREATED:20240911T230940Z
LAST-MODIFIED:20240911T230940Z
UID:19854-1730311200-1730320200@www.unitedskates.com
SUMMARY:Not So Scary Halloween Skate Party
DESCRIPTION:Come Celebrate Halloween with a Not So Scary Trick or Treating event with our one & only STITCH ! \nEnjoy the greatest halloween music\, bounce house & trick or treating ! \n$16 Admission includes skate rental\, a slice of cheese pizza\, a small drink & a glow necklace ! \n$4.00 Non-Skating Adults \n**No Free Passes**
URL:https://www.unitedskates.com/skateland-mesa/event/not-so-scary-halloween-skate-party/
LOCATION:Skateland Mesa\, 7 E. Southern Ave.\, Mesa\, AZ\, 85210\, United States
CATEGORIES:Family Events,Public Skates,Special Events
ATTACH;FMTTYPE=image/png:https://unitedskates-assets.sfo3.digitaloceanspaces.com/wp-content/uploads/sites/20/2024/09/Zombie-Roll-Bounce-10-21-2.png
END:VEVENT
END:VCALENDAR