BEGIN:VCALENDAR
VERSION:2.0
PRODID:-//Rink 50 - Skateland Mesa - ECPv6.15.20//NONSGML v1.0//EN
CALSCALE:GREGORIAN
METHOD:PUBLISH
X-WR-CALNAME:Rink 50 - Skateland Mesa
X-ORIGINAL-URL:https://www.unitedskates.com/skateland-mesa
X-WR-CALDESC:Events for Rink 50 - Skateland Mesa
REFRESH-INTERVAL;VALUE=DURATION:PT1H
X-Robots-Tag:noindex
X-PUBLISHED-TTL:PT1H
BEGIN:VTIMEZONE
TZID:America/Phoenix
BEGIN:STANDARD
TZOFFSETFROM:-0700
TZOFFSETTO:-0700
TZNAME:MST
DTSTART:20230101T000000
END:STANDARD
END:VTIMEZONE
BEGIN:VEVENT
DTSTART;TZID=America/Phoenix:20241023T180000
DTEND;TZID=America/Phoenix:20241023T203000
DTSTAMP:20260424T195739
CREATED:20241001T210003Z
LAST-MODIFIED:20241209T194401Z
UID:20134-1729706400-1729715400@www.unitedskates.com
SUMMARY:Afforable Family Night
DESCRIPTION:$6.50 Admission\n$4.00 Non-skating Adults\n$4.50 skate/rollerblade rental \nWrist guards are provided free of charge and are mandatory for all skaters regardless of age/skating ability.
URL:https://www.unitedskates.com/skateland-mesa/event/all-you-can-eat-pizza-skate-2/
CATEGORIES:Family Events,Public Skates
ATTACH;FMTTYPE=image/jpeg:https://unitedskates-assets.sfo3.digitaloceanspaces.com/wp-content/uploads/sites/20/2022/11/aff-skate-1200x900-1.jpg
END:VEVENT
END:VCALENDAR