BEGIN:VCALENDAR
VERSION:2.0
PRODID:-//Rink 50 - Skateland Mesa - ECPv6.15.20//NONSGML v1.0//EN
CALSCALE:GREGORIAN
METHOD:PUBLISH
X-ORIGINAL-URL:https://www.unitedskates.com/skateland-mesa
X-WR-CALDESC:Events for Rink 50 - Skateland Mesa
REFRESH-INTERVAL;VALUE=DURATION:PT1H
X-Robots-Tag:noindex
X-PUBLISHED-TTL:PT1H
BEGIN:VTIMEZONE
TZID:America/Phoenix
BEGIN:STANDARD
TZOFFSETFROM:-0700
TZOFFSETTO:-0700
TZNAME:MST
DTSTART:20230101T000000
END:STANDARD
END:VTIMEZONE
BEGIN:VEVENT
DTSTART;TZID=America/Phoenix:20241019T130000
DTEND;TZID=America/Phoenix:20241019T153000
DTSTAMP:20260424T103634
CREATED:20240925T191548Z
LAST-MODIFIED:20240925T191548Z
UID:20088-1729342800-1729351800@www.unitedskates.com
SUMMARY:Frankenstein Skate
DESCRIPTION:Join us for a family fun Frankenstein Skate! \nGames\, trivia\, spooky cafe deals. scary photo ops & a Frankenstein costume contest ! \nAdmission: $11 \nSkate Rental: $4.50 \nNon-Skating Adults: $4 \n**No Free Passess**
URL:https://www.unitedskates.com/skateland-mesa/event/frankenstein-skate/
LOCATION:Skateland Mesa\, 7 E. Southern Ave.\, Mesa\, AZ\, 85210\, United States
CATEGORIES:Family Events,Public Skates,Special Events
ATTACH;FMTTYPE=image/png:https://unitedskates-assets.sfo3.digitaloceanspaces.com/wp-content/uploads/sites/20/2024/09/Zombie-Roll-Bounce-10-21-1.png
END:VEVENT
END:VCALENDAR