BEGIN:VCALENDAR
VERSION:2.0
PRODID:-//Rink 50 - Skateland Mesa - ECPv6.15.20//NONSGML v1.0//EN
CALSCALE:GREGORIAN
METHOD:PUBLISH
X-ORIGINAL-URL:https://www.unitedskates.com/skateland-mesa
X-WR-CALDESC:Events for Rink 50 - Skateland Mesa
REFRESH-INTERVAL;VALUE=DURATION:PT1H
X-Robots-Tag:noindex
X-PUBLISHED-TTL:PT1H
BEGIN:VTIMEZONE
TZID:America/Phoenix
BEGIN:STANDARD
TZOFFSETFROM:-0700
TZOFFSETTO:-0700
TZNAME:MST
DTSTART:20230101T000000
END:STANDARD
END:VTIMEZONE
BEGIN:VEVENT
DTSTART;TZID=America/Phoenix:20240930T100000
DTEND;TZID=America/Phoenix:20241014T203000
DTSTAMP:20260424T062116
CREATED:20240912T160401Z
LAST-MODIFIED:20241010T224137Z
UID:19860-1727690400-1728937800@www.unitedskates.com
SUMMARY:2024 Fall Break
DESCRIPTION:School is Out – Go Roller Skating \nJoin Us During Fall Break For Roller Skating FUN! \nWe Have GREAT Sessions for Everyone! \nBaby Shark\, Addam’s Family\, Mario\, Fall Carnival\, Glow Skates and MORE! \nAsk About Our Birthday Parties! \nSkate Rental $4.50 \nSkate Mate $6.00
URL:https://www.unitedskates.com/skateland-mesa/event/2024-fall-break/
CATEGORIES:Family Events,Public Skates,Special Events
ATTACH;FMTTYPE=image/jpeg:https://unitedskates-assets.sfo3.digitaloceanspaces.com/wp-content/uploads/sites/20/2024/09/Fall-Break-Calendar-2024-50-scaled.jpg
END:VEVENT
BEGIN:VEVENT
DTSTART;TZID=America/Phoenix:20241011T100000
DTEND;TZID=America/Phoenix:20241011T150000
DTSTAMP:20260424T062116
CREATED:20240919T152546Z
LAST-MODIFIED:20240919T152559Z
UID:20030-1728640800-1728658800@www.unitedskates.com
SUMMARY:Encanto Skate
DESCRIPTION:Fall Break Skate – School is Out \nAdmission: $13.00 \nSkate Rental: $4.50
URL:https://www.unitedskates.com/skateland-mesa/event/encanto-skate/
CATEGORIES:Family Events,Public Skates,Special Events
ATTACH;FMTTYPE=image/png:https://unitedskates-assets.sfo3.digitaloceanspaces.com/wp-content/uploads/sites/20/2024/09/Screenshot-2024-09-19-112100.png
END:VEVENT
BEGIN:VEVENT
DTSTART;TZID=America/Phoenix:20241011T153000
DTEND;TZID=America/Phoenix:20241011T180000
DTSTAMP:20260424T062116
CREATED:20240919T152730Z
LAST-MODIFIED:20240919T152730Z
UID:20034-1728660600-1728669600@www.unitedskates.com
SUMMARY:Public Skate
DESCRIPTION:Fall Break Skate – School is Out \nAdmission: $11.00 \nSkate Rental: $4.50
URL:https://www.unitedskates.com/skateland-mesa/event/public-skate-24/
CATEGORIES:Family Events,Public Skates
ATTACH;FMTTYPE=image/jpeg:https://unitedskates-assets.sfo3.digitaloceanspaces.com/wp-content/uploads/sites/20/2023/02/Public-Skate-1200x900-v2.jpg
END:VEVENT
BEGIN:VEVENT
DTSTART;TZID=America/Phoenix:20241011T180000
DTEND;TZID=America/Phoenix:20241011T210000
DTSTAMP:20260424T062116
CREATED:20240919T153123Z
LAST-MODIFIED:20240925T184659Z
UID:20036-1728669600-1728680400@www.unitedskates.com
SUMMARY:Freddy VS Jason
DESCRIPTION:Fall Break Skate – School is Out \nJoin us for a spooky skate party ! Are you team Jason or Team Freddy ? \nDress in your best costume \, enjoy some scary cafe specials \, trivia & photo ops with Jason & Freddy ! \nAdmission: $13.00 \nSkate Rental: $4.50 \nNon-skating adults: $4 \n**No Free Passess** \nGroup Reservations available ! Call NOW to reserve !
URL:https://www.unitedskates.com/skateland-mesa/event/freddy-vs-jason/
LOCATION:Skateland Mesa\, 7 E. Southern Ave.\, Mesa\, AZ\, 85210\, United States
CATEGORIES:Family Events,Public Skates,Special Events
ATTACH;FMTTYPE=image/png:https://unitedskates-assets.sfo3.digitaloceanspaces.com/wp-content/uploads/sites/20/2024/09/Freddy-vs-jason-10-11.png
END:VEVENT
END:VCALENDAR