BEGIN:VCALENDAR
VERSION:2.0
PRODID:-//Rink 50 - Skateland Mesa - ECPv6.15.20//NONSGML v1.0//EN
CALSCALE:GREGORIAN
METHOD:PUBLISH
X-WR-CALNAME:Rink 50 - Skateland Mesa
X-ORIGINAL-URL:https://www.unitedskates.com/skateland-mesa
X-WR-CALDESC:Events for Rink 50 - Skateland Mesa
REFRESH-INTERVAL;VALUE=DURATION:PT1H
X-Robots-Tag:noindex
X-PUBLISHED-TTL:PT1H
BEGIN:VTIMEZONE
TZID:America/Phoenix
BEGIN:STANDARD
TZOFFSETFROM:-0700
TZOFFSETTO:-0700
TZNAME:MST
DTSTART:20230101T000000
END:STANDARD
END:VTIMEZONE
BEGIN:VEVENT
DTSTART;TZID=America/Phoenix:20240930T100000
DTEND;TZID=America/Phoenix:20241014T203000
DTSTAMP:20260424T074842
CREATED:20240912T160401Z
LAST-MODIFIED:20241010T224137Z
UID:19860-1727690400-1728937800@www.unitedskates.com
SUMMARY:2024 Fall Break
DESCRIPTION:School is Out – Go Roller Skating \nJoin Us During Fall Break For Roller Skating FUN! \nWe Have GREAT Sessions for Everyone! \nBaby Shark\, Addam’s Family\, Mario\, Fall Carnival\, Glow Skates and MORE! \nAsk About Our Birthday Parties! \nSkate Rental $4.50 \nSkate Mate $6.00
URL:https://www.unitedskates.com/skateland-mesa/event/2024-fall-break/
CATEGORIES:Family Events,Public Skates,Special Events
ATTACH;FMTTYPE=image/jpeg:https://unitedskates-assets.sfo3.digitaloceanspaces.com/wp-content/uploads/sites/20/2024/09/Fall-Break-Calendar-2024-50-scaled.jpg
END:VEVENT
BEGIN:VEVENT
DTSTART;TZID=America/Phoenix:20241007T100000
DTEND;TZID=America/Phoenix:20241007T150000
DTSTAMP:20260424T074842
CREATED:20240919T150110Z
LAST-MODIFIED:20240919T155446Z
UID:20006-1728295200-1728313200@www.unitedskates.com
SUMMARY:You Matter To Me Skate
DESCRIPTION:Come Meet SpongeBob \nFall Break Skate – School is Out \nAdmission: $11.00 \nSkate Rental: $4.50
URL:https://www.unitedskates.com/skateland-mesa/event/you-matter-to-me-skate/
CATEGORIES:Family Events,Public Skates,Special Events
ATTACH;FMTTYPE=image/jpeg:https://unitedskates-assets.sfo3.digitaloceanspaces.com/wp-content/uploads/sites/20/2024/09/roller-skate-with-spongebob.jpg
END:VEVENT
BEGIN:VEVENT
DTSTART;TZID=America/Phoenix:20241007T153000
DTEND;TZID=America/Phoenix:20241007T180000
DTSTAMP:20260424T074842
CREATED:20240919T150208Z
LAST-MODIFIED:20240919T150208Z
UID:20008-1728315000-1728324000@www.unitedskates.com
SUMMARY:Public Skate
DESCRIPTION:Fall Break Skate – School is Out \nAdmission: $11.00 \nSkate Rental: $4.50
URL:https://www.unitedskates.com/skateland-mesa/event/public-skate-19/
CATEGORIES:Family Events,Public Skates
ATTACH;FMTTYPE=image/jpeg:https://unitedskates-assets.sfo3.digitaloceanspaces.com/wp-content/uploads/sites/20/2023/02/Public-Skate-1200x900-v2.jpg
END:VEVENT
END:VCALENDAR