BEGIN:VCALENDAR
VERSION:2.0
PRODID:-//Rink 50 - Skateland Mesa - ECPv6.15.20//NONSGML v1.0//EN
CALSCALE:GREGORIAN
METHOD:PUBLISH
X-ORIGINAL-URL:https://www.unitedskates.com/skateland-mesa
X-WR-CALDESC:Events for Rink 50 - Skateland Mesa
REFRESH-INTERVAL;VALUE=DURATION:PT1H
X-Robots-Tag:noindex
X-PUBLISHED-TTL:PT1H
BEGIN:VTIMEZONE
TZID:America/Phoenix
BEGIN:STANDARD
TZOFFSETFROM:-0700
TZOFFSETTO:-0700
TZNAME:MST
DTSTART:20230101T000000
END:STANDARD
END:VTIMEZONE
BEGIN:VEVENT
DTSTART;TZID=America/Phoenix:20240930T100000
DTEND;TZID=America/Phoenix:20241014T203000
DTSTAMP:20260424T075143
CREATED:20240912T160401Z
LAST-MODIFIED:20241010T224137Z
UID:19860-1727690400-1728937800@www.unitedskates.com
SUMMARY:2024 Fall Break
DESCRIPTION:School is Out – Go Roller Skating \nJoin Us During Fall Break For Roller Skating FUN! \nWe Have GREAT Sessions for Everyone! \nBaby Shark\, Addam’s Family\, Mario\, Fall Carnival\, Glow Skates and MORE! \nAsk About Our Birthday Parties! \nSkate Rental $4.50 \nSkate Mate $6.00
URL:https://www.unitedskates.com/skateland-mesa/event/2024-fall-break/
CATEGORIES:Family Events,Public Skates,Special Events
ATTACH;FMTTYPE=image/jpeg:https://unitedskates-assets.sfo3.digitaloceanspaces.com/wp-content/uploads/sites/20/2024/09/Fall-Break-Calendar-2024-50-scaled.jpg
END:VEVENT
BEGIN:VEVENT
DTSTART;TZID=America/Phoenix:20241006T120000
DTEND;TZID=America/Phoenix:20241006T143000
DTSTAMP:20260424T075143
CREATED:20240919T145815Z
LAST-MODIFIED:20240925T183804Z
UID:19857-1728216000-1728225000@www.unitedskates.com
SUMMARY:Hocus Pocus Skate
DESCRIPTION:Fall Break Skate – School is Out & THE WITCHES ARE BACK ! \nJoin us for some spooky skating \, Hocus Pocus trivia\, \nphoto ops\, and delicious cafe specials ! \nAdmission: $11.00 \nSkate Rental: $4.50 \nNon-skating adult: $4 \n**No Free Passes**
URL:https://www.unitedskates.com/skateland-mesa/event/hocus-pocus-skate/
LOCATION:Skateland Mesa\, 7 E. Southern Ave.\, Mesa\, AZ\, 85210\, United States
CATEGORIES:Family Events,Public Skates,Special Events
ATTACH;FMTTYPE=image/png:https://unitedskates-assets.sfo3.digitaloceanspaces.com/wp-content/uploads/sites/20/2024/09/Hocus-Pocus-10-6.png
END:VEVENT
BEGIN:VEVENT
DTSTART;TZID=America/Phoenix:20241006T180000
DTEND;TZID=America/Phoenix:20241006T203000
DTSTAMP:20260424T075143
CREATED:20240702T213908Z
LAST-MODIFIED:20240820T224633Z
UID:19662-1728237600-1728246600@www.unitedskates.com
SUMMARY:Public Session
DESCRIPTION:Come enjoy tons of family fun at Skateland Mesa! Enjoy all the top hits as you skate with friends and family in our fully Air Conditioned Building! If you get hungry while skating\, stop in at our concession stand and enjoy a variety of tasty snacks! \nAdmission is $11 \nSkate rentals are available for $4.50 \n$4.00 Non-Skating Adults \nWrist guards are mandatory for all skaters!
URL:https://www.unitedskates.com/skateland-mesa/event/public-session-2-2024-10-06/
LOCATION:Skateland Mesa\, 7 E. Southern Ave.\, Mesa\, AZ\, 85210\, United States
CATEGORIES:Family Events,Public Skates
ATTACH;FMTTYPE=image/jpeg:https://unitedskates-assets.sfo3.digitaloceanspaces.com/wp-content/uploads/sites/20/2023/02/Public-Skate-1200x900-v2.jpg
END:VEVENT
END:VCALENDAR