BEGIN:VCALENDAR
VERSION:2.0
PRODID:-//Rink 50 - Skateland Mesa - ECPv6.15.20//NONSGML v1.0//EN
CALSCALE:GREGORIAN
METHOD:PUBLISH
X-ORIGINAL-URL:https://www.unitedskates.com/skateland-mesa
X-WR-CALDESC:Events for Rink 50 - Skateland Mesa
REFRESH-INTERVAL;VALUE=DURATION:PT1H
X-Robots-Tag:noindex
X-PUBLISHED-TTL:PT1H
BEGIN:VTIMEZONE
TZID:America/Phoenix
BEGIN:STANDARD
TZOFFSETFROM:-0700
TZOFFSETTO:-0700
TZNAME:MST
DTSTART:20230101T000000
END:STANDARD
END:VTIMEZONE
BEGIN:VEVENT
DTSTART;TZID=America/Phoenix:20240930T100000
DTEND;TZID=America/Phoenix:20241014T203000
DTSTAMP:20260424T035209
CREATED:20240912T160401Z
LAST-MODIFIED:20241010T224137Z
UID:19860-1727690400-1728937800@www.unitedskates.com
SUMMARY:2024 Fall Break
DESCRIPTION:School is Out – Go Roller Skating \nJoin Us During Fall Break For Roller Skating FUN! \nWe Have GREAT Sessions for Everyone! \nBaby Shark\, Addam’s Family\, Mario\, Fall Carnival\, Glow Skates and MORE! \nAsk About Our Birthday Parties! \nSkate Rental $4.50 \nSkate Mate $6.00
URL:https://www.unitedskates.com/skateland-mesa/event/2024-fall-break/
CATEGORIES:Family Events,Public Skates,Special Events
ATTACH;FMTTYPE=image/jpeg:https://unitedskates-assets.sfo3.digitaloceanspaces.com/wp-content/uploads/sites/20/2024/09/Fall-Break-Calendar-2024-50-scaled.jpg
END:VEVENT
BEGIN:VEVENT
DTSTART;TZID=America/Phoenix:20241004T100000
DTEND;TZID=America/Phoenix:20241004T150000
DTSTAMP:20260424T035209
CREATED:20240911T220318Z
LAST-MODIFIED:20240911T220318Z
UID:19838-1728036000-1728054000@www.unitedskates.com
SUMMARY:Mickey Mouse's Halloween Kick Off
DESCRIPTION:Join us and kick off Halloween month with Mickey Mouse ! \nCome skate to the best Disney hits & Pop music ALL SESSION LONG ! \nEnjoy delicious cafe specials \, games and a chance to WIN a Pumpkin full of CANDY ! \n$11 admission \n$4.50 Skate Rental \n$4.00 Non-skating Adult \n**No Free Passes** \n  \nWristguards mandatory for all skaters regardless of age or skating abilities !
URL:https://www.unitedskates.com/skateland-mesa/event/mickey-mouses-halloween-kick-off/
LOCATION:Skateland Mesa\, 7 E. Southern Ave.\, Mesa\, AZ\, 85210\, United States
CATEGORIES:Family Events,Public Skates,Special Events
ATTACH;FMTTYPE=image/png:https://unitedskates-assets.sfo3.digitaloceanspaces.com/wp-content/uploads/sites/20/2024/09/Mickey-Halloween-Kick-Off.png
END:VEVENT
BEGIN:VEVENT
DTSTART;TZID=America/Phoenix:20241004T153000
DTEND;TZID=America/Phoenix:20241004T180000
DTSTAMP:20260424T035209
CREATED:20240919T145142Z
LAST-MODIFIED:20240919T160555Z
UID:19998-1728055800-1728064800@www.unitedskates.com
SUMMARY:Disney Bingo Skate
DESCRIPTION:Bingo Cards For Disney Songs \nFall Break Skate – School is Out \nAdmission: $11.00 \nSkate Rental: $4.50
URL:https://www.unitedskates.com/skateland-mesa/event/disney-bingo-skate/
CATEGORIES:Family Events,Public Skates,Special Events
ATTACH;FMTTYPE=image/png:https://unitedskates-assets.sfo3.digitaloceanspaces.com/wp-content/uploads/sites/20/2024/09/Screenshot-2024-09-19-120508.png
END:VEVENT
BEGIN:VEVENT
DTSTART;TZID=America/Phoenix:20241004T180000
DTEND;TZID=America/Phoenix:20241004T210000
DTSTAMP:20260424T035209
CREATED:20240919T145305Z
LAST-MODIFIED:20240919T145305Z
UID:20000-1728064800-1728075600@www.unitedskates.com
SUMMARY:Glow All You Can Eat Pizza Party
DESCRIPTION:Fall Break Skate – School is Out \nAdmission: $15.00 \n 
URL:https://www.unitedskates.com/skateland-mesa/event/glow-all-you-can-eat-pizza-party/
CATEGORIES:Family Events,Public Skates,Special Events
ATTACH;FMTTYPE=image/jpeg:https://unitedskates-assets.sfo3.digitaloceanspaces.com/wp-content/uploads/sites/20/2024/05/AYCE-Skate-1200x1200-1.jpg
END:VEVENT
END:VCALENDAR