BEGIN:VCALENDAR
VERSION:2.0
PRODID:-//Rink 50 - Skateland Mesa - ECPv6.15.20//NONSGML v1.0//EN
CALSCALE:GREGORIAN
METHOD:PUBLISH
X-ORIGINAL-URL:https://www.unitedskates.com/skateland-mesa
X-WR-CALDESC:Events for Rink 50 - Skateland Mesa
REFRESH-INTERVAL;VALUE=DURATION:PT1H
X-Robots-Tag:noindex
X-PUBLISHED-TTL:PT1H
BEGIN:VTIMEZONE
TZID:America/Phoenix
BEGIN:STANDARD
TZOFFSETFROM:-0700
TZOFFSETTO:-0700
TZNAME:MST
DTSTART:20230101T000000
END:STANDARD
END:VTIMEZONE
BEGIN:VEVENT
DTSTART;TZID=America/Phoenix:20240930T100000
DTEND;TZID=America/Phoenix:20241014T203000
DTSTAMP:20260424T062028
CREATED:20240912T160401Z
LAST-MODIFIED:20241010T224137Z
UID:19860-1727690400-1728937800@www.unitedskates.com
SUMMARY:2024 Fall Break
DESCRIPTION:School is Out – Go Roller Skating \nJoin Us During Fall Break For Roller Skating FUN! \nWe Have GREAT Sessions for Everyone! \nBaby Shark\, Addam’s Family\, Mario\, Fall Carnival\, Glow Skates and MORE! \nAsk About Our Birthday Parties! \nSkate Rental $4.50 \nSkate Mate $6.00
URL:https://www.unitedskates.com/skateland-mesa/event/2024-fall-break/
CATEGORIES:Family Events,Public Skates,Special Events
ATTACH;FMTTYPE=image/jpeg:https://unitedskates-assets.sfo3.digitaloceanspaces.com/wp-content/uploads/sites/20/2024/09/Fall-Break-Calendar-2024-50-scaled.jpg
END:VEVENT
BEGIN:VEVENT
DTSTART;TZID=America/Phoenix:20241001T100000
DTEND;TZID=America/Phoenix:20241001T150000
DTSTAMP:20260424T062028
CREATED:20240919T141035Z
LAST-MODIFIED:20240919T141035Z
UID:19979-1727776800-1727794800@www.unitedskates.com
SUMMARY:Free Cookie Skate
DESCRIPTION:Free Cookie with Each Paid Admission \nFall Break Skate – School is Out \nAdmission: $11.00 \nSkate Rental: $4.50
URL:https://www.unitedskates.com/skateland-mesa/event/free-cookie-skate/
CATEGORIES:Family Events,Public Skates,Special Events
ATTACH;FMTTYPE=image/jpeg:https://unitedskates-assets.sfo3.digitaloceanspaces.com/wp-content/uploads/sites/20/2024/09/free-cookie-skate-1200x1200-1.jpg
END:VEVENT
BEGIN:VEVENT
DTSTART;TZID=America/Phoenix:20241001T153000
DTEND;TZID=America/Phoenix:20241001T180000
DTSTAMP:20260424T062028
CREATED:20240919T141223Z
LAST-MODIFIED:20240919T160343Z
UID:19982-1727796600-1727805600@www.unitedskates.com
SUMMARY:Music Bingo Skate
DESCRIPTION:Bingo Cards For Music \nFall Break Skate – School is Out \nAdmission: $11.00 \nSkate Rental: $4.50
URL:https://www.unitedskates.com/skateland-mesa/event/music-bingo-skate/
CATEGORIES:Family Events,Public Skates,Special Events
ATTACH;FMTTYPE=image/webp:https://unitedskates-assets.sfo3.digitaloceanspaces.com/wp-content/uploads/sites/20/2024/09/il_570xN.2908716063_57ug.webp
END:VEVENT
BEGIN:VEVENT
DTSTART;TZID=America/Phoenix:20241001T180000
DTEND;TZID=America/Phoenix:20241001T203000
DTSTAMP:20260424T062028
CREATED:20240919T141433Z
LAST-MODIFIED:20240919T155730Z
UID:19984-1727805600-1727814600@www.unitedskates.com
SUMMARY:70's 80's Skate Party
DESCRIPTION:$2.00 Off when you Dress Up \nFall Break Skate – School is Out \nAdmission: $11.00 \nSkate Rental: $4.50
URL:https://www.unitedskates.com/skateland-mesa/event/70s-80s-skate-party/
CATEGORIES:Family Events,Public Skates,Special Events
ATTACH;FMTTYPE=image/png:https://unitedskates-assets.sfo3.digitaloceanspaces.com/wp-content/uploads/sites/20/2024/09/Screenshot-2024-09-19-115705.png
END:VEVENT
END:VCALENDAR