BEGIN:VCALENDAR
VERSION:2.0
PRODID:-//Rink 50 - Skateland Mesa - ECPv6.15.20//NONSGML v1.0//EN
CALSCALE:GREGORIAN
METHOD:PUBLISH
X-WR-CALNAME:Rink 50 - Skateland Mesa
X-ORIGINAL-URL:https://www.unitedskates.com/skateland-mesa
X-WR-CALDESC:Events for Rink 50 - Skateland Mesa
REFRESH-INTERVAL;VALUE=DURATION:PT1H
X-Robots-Tag:noindex
X-PUBLISHED-TTL:PT1H
BEGIN:VTIMEZONE
TZID:America/Phoenix
BEGIN:STANDARD
TZOFFSETFROM:-0700
TZOFFSETTO:-0700
TZNAME:MST
DTSTART:20230101T000000
END:STANDARD
END:VTIMEZONE
BEGIN:VEVENT
DTSTART;TZID=America/Phoenix:20240929T120000
DTEND;TZID=America/Phoenix:20240929T143000
DTSTAMP:20260424T022445
CREATED:20240814T193339Z
LAST-MODIFIED:20240814T193339Z
UID:19719-1727611200-1727620200@www.unitedskates.com
SUMMARY:Ice Cream Sundae Skate
DESCRIPTION:Join us from 12:00-2:30 P.M for an Ice Cream Sundae Skate Party ! \nEnjoy games\, delicious cafe specials\, photo ops & tons of FUN ! \n$12 Admission includes a FREE trip to our Ice Cream Sundae Bar \n$4.50 Skate Rental \n$4.00 Non-skating Adults \n** No Free Passes**
URL:https://www.unitedskates.com/skateland-mesa/event/ice-cream-sundae-skate/
LOCATION:Skateland Mesa\, 7 E. Southern Ave.\, Mesa\, AZ\, 85210\, United States
CATEGORIES:Family Events,Public Skates,Special Events
ATTACH;FMTTYPE=image/png:https://unitedskates-assets.sfo3.digitaloceanspaces.com/wp-content/uploads/sites/20/2024/08/Ice-Cream-Sundae-Skate-9-29.png
END:VEVENT
END:VCALENDAR