BEGIN:VCALENDAR
VERSION:2.0
PRODID:-//Rink 50 - Skateland Mesa - ECPv6.15.20//NONSGML v1.0//EN
CALSCALE:GREGORIAN
METHOD:PUBLISH
X-ORIGINAL-URL:https://www.unitedskates.com/skateland-mesa
X-WR-CALDESC:Events for Rink 50 - Skateland Mesa
REFRESH-INTERVAL;VALUE=DURATION:PT1H
X-Robots-Tag:noindex
X-PUBLISHED-TTL:PT1H
BEGIN:VTIMEZONE
TZID:America/Phoenix
BEGIN:STANDARD
TZOFFSETFROM:-0700
TZOFFSETTO:-0700
TZNAME:MST
DTSTART:20230101T000000
END:STANDARD
END:VTIMEZONE
BEGIN:VEVENT
DTSTART;TZID=America/Phoenix:20240925T180000
DTEND;TZID=America/Phoenix:20240925T203000
DTSTAMP:20260424T111737
CREATED:20240911T222916Z
LAST-MODIFIED:20240911T222916Z
UID:19844-1727287200-1727296200@www.unitedskates.com
SUMMARY:National Family Day Skate
DESCRIPTION:Bring your whole family to celebrate National Family Day ! \nAsk about our delicious cafe specials & ENJOY our AMAZING family meal deals ! \n$16 Admission includes skate rental & ALL YOU CAN EAT PIZZA!! \n*Everyone Must Pay To Enter* \n**No Free Passes**
URL:https://www.unitedskates.com/skateland-mesa/event/national-family-day-skate-2/
LOCATION:Skateland Mesa\, 7 E. Southern Ave.\, Mesa\, AZ\, 85210\, United States
CATEGORIES:Family Events,Public Skates,Special Events
ATTACH;FMTTYPE=image/png:https://unitedskates-assets.sfo3.digitaloceanspaces.com/wp-content/uploads/sites/20/2024/08/National-Family-Day-Skate-9-25-1.png
END:VEVENT
END:VCALENDAR