BEGIN:VCALENDAR
VERSION:2.0
PRODID:-//Rink 50 - Skateland Mesa - ECPv6.15.20//NONSGML v1.0//EN
CALSCALE:GREGORIAN
METHOD:PUBLISH
X-ORIGINAL-URL:https://www.unitedskates.com/skateland-mesa
X-WR-CALDESC:Events for Rink 50 - Skateland Mesa
REFRESH-INTERVAL;VALUE=DURATION:PT1H
X-Robots-Tag:noindex
X-PUBLISHED-TTL:PT1H
BEGIN:VTIMEZONE
TZID:America/Phoenix
BEGIN:STANDARD
TZOFFSETFROM:-0700
TZOFFSETTO:-0700
TZNAME:MST
DTSTART:20230101T000000
END:STANDARD
END:VTIMEZONE
BEGIN:VEVENT
DTSTART;TZID=America/Phoenix:20240915T180000
DTEND;TZID=America/Phoenix:20240915T203000
DTSTAMP:20260424T052120
CREATED:20240813T230407Z
LAST-MODIFIED:20240813T230407Z
UID:19707-1726423200-1726432200@www.unitedskates.com
SUMMARY:Selena Tribute Skate
DESCRIPTION:Join us from 6:00-8:30 P.M for a Selena Tribute Skate to celebrate the start of Hispanis Heritage Month ! \nSpinning Selena and other Latin music Favorites ALL SESSION LONG ! \n$11 Admission \n$4.50 Skate Rental \n$4.00 Non-Skating Adults
URL:https://www.unitedskates.com/skateland-mesa/event/selena-tribute-skate-2/
LOCATION:Skateland Mesa\, 7 E. Southern Ave.\, Mesa\, AZ\, 85210\, United States
CATEGORIES:Family Events,Public Skates,Special Events
ATTACH;FMTTYPE=image/png:https://unitedskates-assets.sfo3.digitaloceanspaces.com/wp-content/uploads/sites/20/2024/08/Selena-Skate-9-15-1.png
END:VEVENT
END:VCALENDAR