BEGIN:VCALENDAR
VERSION:2.0
PRODID:-//Rink 50 - Skateland Mesa - ECPv6.15.20//NONSGML v1.0//EN
CALSCALE:GREGORIAN
METHOD:PUBLISH
X-ORIGINAL-URL:https://www.unitedskates.com/skateland-mesa
X-WR-CALDESC:Events for Rink 50 - Skateland Mesa
REFRESH-INTERVAL;VALUE=DURATION:PT1H
X-Robots-Tag:noindex
X-PUBLISHED-TTL:PT1H
BEGIN:VTIMEZONE
TZID:America/Phoenix
BEGIN:STANDARD
TZOFFSETFROM:-0700
TZOFFSETTO:-0700
TZNAME:MST
DTSTART:20230101T000000
END:STANDARD
END:VTIMEZONE
BEGIN:VEVENT
DTSTART;TZID=America/Phoenix:20240914T100000
DTEND;TZID=America/Phoenix:20240914T123000
DTSTAMP:20260424T085837
CREATED:20240912T202046Z
LAST-MODIFIED:20250108T202119Z
UID:19866-1726308000-1726317000@www.unitedskates.com
SUMMARY:Little Rollers Skate
DESCRIPTION:Join us every Saturday morning after Skate School for our Little Rollers skate!\nWe’ll be playing the best kid friendly Top 40 and Disney hits! \n$12.oo Admission\n$5 Skate/Blade Rental\n$4.00 Non-skating adults \nWristguards Mandatory. Free of charge to use! \nNo Outside Food or Drinks.
URL:https://www.unitedskates.com/skateland-mesa/event/little-rollers-skate-2/
CATEGORIES:Family Events,Public Skates
END:VEVENT
END:VCALENDAR