BEGIN:VCALENDAR
VERSION:2.0
PRODID:-//Rink 50 - Skateland Mesa - ECPv6.15.20//NONSGML v1.0//EN
CALSCALE:GREGORIAN
METHOD:PUBLISH
X-ORIGINAL-URL:https://www.unitedskates.com/skateland-mesa
X-WR-CALDESC:Events for Rink 50 - Skateland Mesa
REFRESH-INTERVAL;VALUE=DURATION:PT1H
X-Robots-Tag:noindex
X-PUBLISHED-TTL:PT1H
BEGIN:VTIMEZONE
TZID:America/Phoenix
BEGIN:STANDARD
TZOFFSETFROM:-0700
TZOFFSETTO:-0700
TZNAME:MST
DTSTART:20230101T000000
END:STANDARD
END:VTIMEZONE
BEGIN:VEVENT
DTSTART;TZID=America/Phoenix:20240910T173000
DTEND;TZID=America/Phoenix:20240910T203000
DTSTAMP:20260424T085838
CREATED:20240910T210229Z
LAST-MODIFIED:20240910T210343Z
UID:19833-1725989400-1726000200@www.unitedskates.com
SUMMARY:Movie Music Kid's Skate
DESCRIPTION:Join us from 5:30-8:30 P.M \nGames\, Cafe Specials & the BEST Kids’ Movie Music ALL SESSION LONG ! \n$8 ADMISSION\n$4.50 ROLLERSKATE/BLADE RENTAL\n$4.00 NON-SKATING ADULTS
URL:https://www.unitedskates.com/skateland-mesa/event/movie-music-kids-skate-2/
CATEGORIES:Family Events,Public Skates,Special Events
END:VEVENT
END:VCALENDAR