BEGIN:VCALENDAR
VERSION:2.0
PRODID:-//Rink 50 - Skateland Mesa - ECPv6.15.20//NONSGML v1.0//EN
CALSCALE:GREGORIAN
METHOD:PUBLISH
X-WR-CALNAME:Rink 50 - Skateland Mesa
X-ORIGINAL-URL:https://www.unitedskates.com/skateland-mesa
X-WR-CALDESC:Events for Rink 50 - Skateland Mesa
REFRESH-INTERVAL;VALUE=DURATION:PT1H
X-Robots-Tag:noindex
X-PUBLISHED-TTL:PT1H
BEGIN:VTIMEZONE
TZID:America/Phoenix
BEGIN:STANDARD
TZOFFSETFROM:-0700
TZOFFSETTO:-0700
TZNAME:MST
DTSTART:20230101T000000
END:STANDARD
END:VTIMEZONE
BEGIN:VEVENT
DTSTART;TZID=America/Phoenix:20240908T100000
DTEND;TZID=America/Phoenix:20240908T120000
DTSTAMP:20260424T022443
CREATED:20240906T193449Z
LAST-MODIFIED:20240906T193449Z
UID:19820-1725789600-1725796800@www.unitedskates.com
SUMMARY:Teachers FREE Back to School Skate
DESCRIPTION:Skateland Mesa invites all teachers and their families to come skate for FREE this Sunday from 10am -12pm!\n\nTeachers must present School ID to receive FREE admission for up to 4 family members/friends! Just pay for skate rental – $4.50.\n\nFree Skating! Free glowsticks! Free coffee & pastries! Meet characters!
URL:https://www.unitedskates.com/skateland-mesa/event/teachers-free-back-to-school-skate/
CATEGORIES:Family Events,Special Events
ATTACH;FMTTYPE=image/png:https://unitedskates-assets.sfo3.digitaloceanspaces.com/wp-content/uploads/sites/20/2024/09/MESA-TEACHER-FLYER.png
END:VEVENT
END:VCALENDAR