BEGIN:VCALENDAR
VERSION:2.0
PRODID:-//Rink 50 - Skateland Mesa - ECPv6.15.20//NONSGML v1.0//EN
CALSCALE:GREGORIAN
METHOD:PUBLISH
X-WR-CALNAME:Rink 50 - Skateland Mesa
X-ORIGINAL-URL:https://www.unitedskates.com/skateland-mesa
X-WR-CALDESC:Events for Rink 50 - Skateland Mesa
REFRESH-INTERVAL;VALUE=DURATION:PT1H
X-Robots-Tag:noindex
X-PUBLISHED-TTL:PT1H
BEGIN:VTIMEZONE
TZID:America/Phoenix
BEGIN:STANDARD
TZOFFSETFROM:-0700
TZOFFSETTO:-0700
TZNAME:MST
DTSTART:20230101T000000
END:STANDARD
END:VTIMEZONE
BEGIN:VEVENT
DTSTART;TZID=America/Phoenix:20240827T173000
DTEND;TZID=America/Phoenix:20240827T200000
DTSTAMP:20260424T144309
CREATED:20240719T213941Z
LAST-MODIFIED:20240719T213941Z
UID:18694-1724779800-1724788800@www.unitedskates.com
SUMMARY:Icee Roller Skate
DESCRIPTION:Join us for an Icee Roller Skate ! \nEnjoy some awesome icee candy \, cafe specials\, & games ! \n$10 Admission includes skate rental & a FREE mini icee ! \n**No Free Passes**
URL:https://www.unitedskates.com/skateland-mesa/event/icee-roller-skate/
LOCATION:Skateland Mesa\, 7 E. Southern Ave.\, Mesa\, AZ\, 85210\, United States
CATEGORIES:Family Events,Public Skates,Special Events
ATTACH;FMTTYPE=image/png:https://unitedskates-assets.sfo3.digitaloceanspaces.com/wp-content/uploads/sites/20/2024/07/Icee-Roller-Skate-8-27.png
END:VEVENT
END:VCALENDAR