BEGIN:VCALENDAR
VERSION:2.0
PRODID:-//Rink 50 - Skateland Mesa - ECPv6.15.20//NONSGML v1.0//EN
CALSCALE:GREGORIAN
METHOD:PUBLISH
X-WR-CALNAME:Rink 50 - Skateland Mesa
X-ORIGINAL-URL:https://www.unitedskates.com/skateland-mesa
X-WR-CALDESC:Events for Rink 50 - Skateland Mesa
REFRESH-INTERVAL;VALUE=DURATION:PT1H
X-Robots-Tag:noindex
X-PUBLISHED-TTL:PT1H
BEGIN:VTIMEZONE
TZID:America/Phoenix
BEGIN:STANDARD
TZOFFSETFROM:-0700
TZOFFSETTO:-0700
TZNAME:MST
DTSTART:20230101T000000
END:STANDARD
END:VTIMEZONE
BEGIN:VEVENT
DTSTART;TZID=America/Phoenix:20240803T190000
DTEND;TZID=America/Phoenix:20240803T213000
DTSTAMP:20260425T034812
CREATED:20240430T212919Z
LAST-MODIFIED:20250827T182700Z
UID:18986-1722711600-1722720600@www.unitedskates.com
SUMMARY:Family Jam Skate
DESCRIPTION:🛼 Family Jam Skate Night! 🛼Bring the whole crew for a night of skating\, music\, and endless fun!Family fun\, skate style! 💥👨‍👩‍👧‍👦 \n$14.00 Admission all children and skating adults.\n$4.00 Non-Skating Adults\n$5 skate/rollerblade rental \nWrist guards are free and required regardless of age or skating experience – pick them up at the skate counter. \nNo Outside Food Or Drinks. \nGuests 17 years of age and younger must be accompanied by a chaperone 23 years of age or older unless they own their own pair of skates\n 
URL:https://www.unitedskates.com/skateland-mesa/event/saturday-glow-skate-4-2024-08-03/2024-08-03/
LOCATION:Skateland Mesa\, 7 E. Southern Ave.\, Mesa\, AZ\, 85210\, United States
CATEGORIES:Family Events,Public Skates
ATTACH;FMTTYPE=image/jpeg:https://unitedskates-assets.sfo3.digitaloceanspaces.com/wp-content/uploads/sites/20/2022/05/Glow-Skate-1200x900-1.jpg
END:VEVENT
END:VCALENDAR