BEGIN:VCALENDAR
VERSION:2.0
PRODID:-//Rink 50 - Skateland Mesa - ECPv6.15.20//NONSGML v1.0//EN
CALSCALE:GREGORIAN
METHOD:PUBLISH
X-ORIGINAL-URL:https://www.unitedskates.com/skateland-mesa
X-WR-CALDESC:Events for Rink 50 - Skateland Mesa
REFRESH-INTERVAL;VALUE=DURATION:PT1H
X-Robots-Tag:noindex
X-PUBLISHED-TTL:PT1H
BEGIN:VTIMEZONE
TZID:America/Phoenix
BEGIN:STANDARD
TZOFFSETFROM:-0700
TZOFFSETTO:-0700
TZNAME:MST
DTSTART:20230101T000000
END:STANDARD
END:VTIMEZONE
BEGIN:VEVENT
DTSTART;TZID=America/Phoenix:20240706T130000
DTEND;TZID=America/Phoenix:20240706T153000
DTSTAMP:20260424T144742
CREATED:20220504T032242Z
LAST-MODIFIED:20240702T212204Z
UID:18158-1720270800-1720279800@www.unitedskates.com
SUMMARY:Skate with Bluey
DESCRIPTION:Skate Mode activated! Come skate with Bluey! \n$11 Admission \n\n\n\n$4.50 Skate/Roller Blade Rental \n\n\n\nWrist guards are mandatory for all skaters regardless of age or experience. Wrist guards are free of charge at our skate counter. 
URL:https://www.unitedskates.com/skateland-mesa/event/public-skate-3-2024-07-06/
LOCATION:Skateland Mesa\, 7 E. Southern Ave.\, Mesa\, AZ\, 85210\, United States
CATEGORIES:Family Events,Public Skates,Special Events
END:VEVENT
END:VCALENDAR