BEGIN:VCALENDAR
VERSION:2.0
PRODID:-//Rink 50 - Skateland Mesa - ECPv6.15.20//NONSGML v1.0//EN
CALSCALE:GREGORIAN
METHOD:PUBLISH
X-ORIGINAL-URL:https://www.unitedskates.com/skateland-mesa
X-WR-CALDESC:Events for Rink 50 - Skateland Mesa
REFRESH-INTERVAL;VALUE=DURATION:PT1H
X-Robots-Tag:noindex
X-PUBLISHED-TTL:PT1H
BEGIN:VTIMEZONE
TZID:America/Phoenix
BEGIN:STANDARD
TZOFFSETFROM:-0700
TZOFFSETTO:-0700
TZNAME:MST
DTSTART:20240101T000000
END:STANDARD
END:VTIMEZONE
BEGIN:VEVENT
DTSTART;TZID=America/Phoenix:20250801T180000
DTEND;TZID=America/Phoenix:20250801T210000
DTSTAMP:20260420T051719
CREATED:20250708T231619Z
LAST-MODIFIED:20250708T231619Z
UID:24103-1754071200-1754082000@www.unitedskates.com
SUMMARY:Reggaeton Skate Party
DESCRIPTION:🎉🛼 REGGAETON SKATE PARTY! 🛼🔥\nSkate\, Dance & Celebrate Latin Music Together! \nGet ready to roll\, vibe\, and DANCE on skates to the hottest reggaeton beats from the legends and today’s superstars! We’re turning the rink into a full-blown Latin party on wheels featuring music from: \n🎤 Daddy Yankee • Ivy Queen • Bad Bunny • Karol G • Don Omar • Rauw Alejandro & MORE! 🎶🔥 \n📅 Date: Friday August 2nd\n🕒 Time: 6:00-9:00 P.M\n🎟️ Admission: $14\n🛼 Skate rental: $5\n🦸🏽‍♂️ Non-Skating Adult: $4 \nJoin us for a vibrant\, family-friendly night of skating to your favorite reggaeton hits — from the classics to today’s chart-toppers! 🎶💥\nFun for the whole familia – bring your abuela\, your tíos\, and the whole crew! 💃🛼💜
URL:https://www.unitedskates.com/skateland-mesa/event/reggaeton-skate-party/
LOCATION:Skateland Mesa\, 7 E. Southern Ave.\, Mesa\, AZ\, 85210\, United States
CATEGORIES:Family Events,Public Skates,Special Events
ATTACH;FMTTYPE=image/png:https://unitedskates-assets.sfo3.digitaloceanspaces.com/wp-content/uploads/sites/20/2025/07/TMNT-8-9-1.png
END:VEVENT
BEGIN:VEVENT
DTSTART;TZID=America/Phoenix:20250805T173000
DTEND;TZID=America/Phoenix:20250805T200000
DTSTAMP:20260420T051719
CREATED:20250730T005914Z
LAST-MODIFIED:20250730T005914Z
UID:24172-1754415000-1754424000@www.unitedskates.com
SUMMARY:Back To School Skate Gospel Edition
DESCRIPTION:Come Skate & Listen to The Best Gospel/ Worship Music In Town ALL Night Long! \n📷 Don’t Forget to Take Pictures With Spongebob & Patrick 📷 \nEnter to WIN a Pizza Party For Your Class ! \n$5 Admission includes a cookie \n$4 Non-skating Adult \n$5 Skate rental \n** NO Outside Food Or Drinks \n** Wristguards are Mandatory. Free of Charge**
URL:https://www.unitedskates.com/skateland-mesa/event/back-to-school-skate-gospel-edition/
LOCATION:AZ
CATEGORIES:Family Events,Public Skates,Special Events
ATTACH;FMTTYPE=image/png:https://unitedskates-assets.sfo3.digitaloceanspaces.com/wp-content/uploads/sites/20/2025/07/Gospel-Skate-Back-to-school-2.png
END:VEVENT
BEGIN:VEVENT
DTSTART;TZID=America/Phoenix:20250806T180000
DTEND;TZID=America/Phoenix:20250806T203000
DTSTAMP:20260420T051719
CREATED:20250108T195544Z
LAST-MODIFIED:20251211T042814Z
UID:23571-1754503200-1754512200@www.unitedskates.com
SUMMARY:Affordable Family Fun Night
DESCRIPTION:👨‍👩‍👧‍👦🛼 Affordable Family Fun Night 🛼🎉Looking for a fun night out that won’t break the bank? Come join us for Affordable Family Skate Night! Enjoy great music 🎶\, smooth skating 🛼\, and quality time with the whole fam 👏 — all at a family-friendly price! \n💲 Admission: Just $6.50 per person🎟️ Skate rentals available for $5\nSpectating Adults: $4 \nWhether you’re a beginner or a seasoned skater\, it’s the perfect way to spend an evening together 💖. Laughs\, laps\, and lasting memories await! 🌟🛼💫 \n**Wrist guards are mandatory for all skaters and available free of charge.
URL:https://www.unitedskates.com/skateland-mesa/event/affordable-family-fun-night-4-2025-05-28-2025-08-06/2025-08-06/
LOCATION:AZ
CATEGORIES:Family Events,Public Skates
ATTACH;FMTTYPE=image/jpeg:https://unitedskates-assets.sfo3.digitaloceanspaces.com/wp-content/uploads/sites/20/2022/12/AFF-FAMILY-FUN-SKATE-1200x900-1.jpg
END:VEVENT
BEGIN:VEVENT
DTSTART;TZID=America/Phoenix:20250808T180000
DTEND;TZID=America/Phoenix:20250808T210000
DTSTAMP:20260420T051719
CREATED:20250708T225426Z
LAST-MODIFIED:20250708T225426Z
UID:24089-1754676000-1754686800@www.unitedskates.com
SUMMARY:Freakier Friday Skate Party
DESCRIPTION:🌟🛼 FREAKIER FRIDAY SKATE PARTY! 🛼🌟\nThe 2025 Movie Magic Meets Glow-in-the-Dark Skating Fun! \nReady to switch things up? Grab your skates and your wildest outfit because it’s time to flip the script at our Freakier Friday Skate Party – inspired by the NEW 2025 Freakier Friday movie! 🎬💫 \n📅 Date: Friday\, August 8th\n🕒 Time: 6:00-9:00 P.M\n🎟️ Admission: $14 Admission includes a FREE glowstick & fortune cookie \nSkate rental: $5 \nNon-skating Adults: $4 \n🛼 Glow-in-the-dark roller skating all night\n🎭 Switch It Up: Dress like your bestie or swap styles with your fam!\n🎶 DJ spinning teen pop\, throwback anthems & high-energy hits\n📸 Fun photo ops & Insta-worthy backdrops \nWhether you’re a parent turned teen or a teen turned mom (😅)\, this night is about fun\, laughs\, and letting loose on wheels — just like in the movie! \n🌀 “Sometimes a little chaos brings people closer!”\nLet’s get freaky\, let’s get funny\, and let’s ROLL!
URL:https://www.unitedskates.com/skateland-mesa/event/freakier-friday-skate-party/
LOCATION:Skateland Mesa\, 7 E. Southern Ave.\, Mesa\, AZ\, 85210\, United States
CATEGORIES:Family Events,Public Skates,Special Events
ATTACH;FMTTYPE=image/jpeg:https://unitedskates-assets.sfo3.digitaloceanspaces.com/wp-content/uploads/sites/20/2025/07/Freakier-Friday-Skate-Party.jpg
END:VEVENT
BEGIN:VEVENT
DTSTART;TZID=America/Phoenix:20250809T130000
DTEND;TZID=America/Phoenix:20250809T153000
DTSTAMP:20260420T051719
CREATED:20250708T230337Z
LAST-MODIFIED:20250708T230337Z
UID:24099-1754744400-1754753400@www.unitedskates.com
SUMMARY:TMNT Roller Skate
DESCRIPTION:🐢🛼 COWABUNGA\, DUDES! 🛼🐢 \nGet ready to SKATE INTO ACTION with your favorite heroes in a half shell! 🎉 Join us for the Teenage Mutant Ninja Turtles Skating Extravaganza – a totally tubular event packed with rad tricks\, pizza vibes\, epic music\, and non-stop turtle power! 🍕🎶💥 \n📅 Date: Saturday\, August 9th\n🕒 Time: 1:00-3:30 P.M\n🎟️ Admission: $12 Admission\n🛼 Skate rental: $5\n🦸🏽‍♂️ Non-Skating Adult: $4 \nBust a move on wheels\, win awesome prizes\, and show off your ninja skills! Whether you’re a pro skater or just learning\, this event is gonna be SHELL-SHOCKING FUN! 🐢🔥 \n🛼 Costumes encouraged! Bring your best Leo\, Ralph\, Mikey\, or Donnie look and you might win a special prize!
URL:https://www.unitedskates.com/skateland-mesa/event/tmnt-roller-skate/
LOCATION:AZ
CATEGORIES:Family Events,Public Skates,Special Events
ATTACH;FMTTYPE=image/png:https://unitedskates-assets.sfo3.digitaloceanspaces.com/wp-content/uploads/sites/20/2025/07/TMNT-8-9.png
END:VEVENT
BEGIN:VEVENT
DTSTART;TZID=America/Phoenix:20250815T100000
DTEND;TZID=America/Phoenix:20250815T130000
DTSTAMP:20260420T051719
CREATED:20250806T001032Z
LAST-MODIFIED:20250806T001032Z
UID:24254-1755252000-1755262800@www.unitedskates.com
SUMMARY:Homeschool Rollerskating S.T.E.M
DESCRIPTION:Come Join us for our Homeschool STEM Skate!\n\nHave your Kids learn about Lesson 8: Newton’s Laws of Motion!\n\nDoors open at 9:30am Lesson starts at 10am! Doors will close at 10:30am.\n\n10am-11am is the Lesson and 11am-1pm will be a FUN Skate for your kidos!\n\nBook ahead for 10 or more kids! No minimum.\n\n$12 admission includes admission\, skate rental and lesson\n\n$17 admission includes admission\, skate rental\, lesson\, a slice and a small drink\n\n$10 Skating adults\n\n**NO Outside Food or Drinks allowed\n\nWristguards are Mandatory. Free of Charge.
URL:https://www.unitedskates.com/skateland-mesa/event/homeschool-rollerskating-s-t-e-m/
LOCATION:Skateland Mesa\, 7 E. Southern Ave.\, Mesa\, AZ\, 85210\, United States
CATEGORIES:Family Events,Public Skates,Special Events
ATTACH;FMTTYPE=image/png:https://unitedskates-assets.sfo3.digitaloceanspaces.com/wp-content/uploads/sites/20/2025/08/HomeSchool-STEM-August-15.png
END:VEVENT
BEGIN:VEVENT
DTSTART;TZID=America/Phoenix:20250816T100000
DTEND;TZID=America/Phoenix:20250816T123000
DTSTAMP:20260420T051719
CREATED:20250708T225946Z
LAST-MODIFIED:20250708T225946Z
UID:24092-1755338400-1755347400@www.unitedskates.com
SUMMARY:Spidey & His Amazing Friends
DESCRIPTION:🕸️🛼 SPIDEY SKATE PARTY! 🛼🕸️\nSwing into action with Spidey & His Amazing Friends! \nCalling all little heroes! Grab your capes (and skates!) and join us for a SUPER skatetastic adventure with your favorite web-slinging crew — Spidey\, Ghost-Spider\, and Spin! 🕷️💥 \n📅 Date: Saturday\, August 16th\n🕒 Time: 10:00 a.m-12:30 p.m\n🎟️ Admission: $12 Admission\n🛼 Skate rental: $5\n🦸🏽‍♂️ Non-Skating Adult: $4 \n🕸️ Superhero skating fun for the whole family\n🎶 Kid-friendly music + Spidey theme tunes\n🦸🏽‍♂️ Meet & Greet with Spidey\, Ghost Spider & Spin\n📸 Spidey-themed photo station! \n🕷️ Dress as your favorite superhero and show off your amazing moves on wheels! Whether you’re a tiny tot or a grown-up fan\, this is one web of fun you don’t want to miss!
URL:https://www.unitedskates.com/skateland-mesa/event/spidey-his-amazing-friends/
LOCATION:Skateland Mesa\, 7 E. Southern Ave.\, Mesa\, AZ\, 85210\, United States
CATEGORIES:Family Events,Public Skates,Special Events
ATTACH;FMTTYPE=image/jpeg:https://unitedskates-assets.sfo3.digitaloceanspaces.com/wp-content/uploads/sites/20/2025/07/Spidey-Friends-Skate.jpg
END:VEVENT
BEGIN:VEVENT
DTSTART;TZID=America/Phoenix:20250819T173000
DTEND;TZID=America/Phoenix:20250819T200000
DTSTAMP:20260420T051719
CREATED:20250721T234159Z
LAST-MODIFIED:20250721T234159Z
UID:24132-1755624600-1755633600@www.unitedskates.com
SUMMARY:KPOP Demon Hunters Glow Skate
DESCRIPTION:🎉🔥 GLOW SKATE NIGHT: K-POP DEMON HUNTERS EDITION! 🔥🎉 \nGet ready for the most EPIC night on wheels! 🛼✨Join us for  K-POP DEMON HUNTERS GLOW SKATE\, where neon lights meet supernatural style and the power of K-pop is your ultimate weapon! 💫⚔️ \n🎟️ Admission: $5 Admission\n🛼 Skate rental: $5\n🦸🏽‍♂️ Non-Skating Adult: $4 \n🕶️ Blacklight glow EVERYTHING – dress to SLAY in your best neon\, leather\, or demon-slaying drip🎶 Non-stop K-pop bangers from BTS\, BLACKPINK\, ATEEZ\, and more🛼 Glow gear\, themed photo ops🍡 Food & Boba Special ! \nGrab your squad\, charge your lightsticks\, and roll into the night like legends. ✨👟 Whether you’re a rookie or a pro skater\, all are welcome to join this supernatural showdown!
URL:https://www.unitedskates.com/skateland-mesa/event/kpop-demon-hunters-glow-skate/
LOCATION:Skateland Mesa\, 7 E. Southern Ave.\, Mesa\, AZ\, 85210\, United States
CATEGORIES:Family Events,Public Skates,Special Events
ATTACH;FMTTYPE=image/png:https://unitedskates-assets.sfo3.digitaloceanspaces.com/wp-content/uploads/sites/20/2025/07/KPOP-demon-hunters-8-19.png
END:VEVENT
BEGIN:VEVENT
DTSTART;TZID=America/Phoenix:20250823T160000
DTEND;TZID=America/Phoenix:20250823T183000
DTSTAMP:20260420T051719
CREATED:20250708T231854Z
LAST-MODIFIED:20250708T231854Z
UID:24106-1755964800-1755973800@www.unitedskates.com
SUMMARY:Hello Kitty Glow Skate
DESCRIPTION:🌟🎀 HELLO KITTY GLOW SKATE NIGHT! 🎀🌟\nGet ready to glow with cuteness on wheels! \nCalling all Hello Kitty fans – it’s time to shine BRIGHT under the blacklights at the most adorable skate party of the year! 💖🛼 \n🩷 Neon lights\, glowing bows\, and your favorite Sanrio vibes all in one magical night of skating FUN! \n📅 Date: Saturday August 23rd\n🕒 Time: 4:00-6:30 P.M\n🎟️ Admission: $12\n🛼 Skate rental: $5\n🦸🏽‍♂️ Non-Skating Adult: $4 \n🎀 Hello Kitty photo ops\n🌈 Blacklight skating + glow accessories\n🎧 DJ spinning kawaii pop & party favorites\n🍭 Candy bar + themed treats \n💡 Wear your brightest colors\, neon gear\, or Hello Kitty glam – the rink will GLOW with kawaii magic! \nDon’t miss this purr-fect night of sparkles\, smiles\, and skate-tastic fun!
URL:https://www.unitedskates.com/skateland-mesa/event/hello-kitty-glow-skate/
LOCATION:Skateland Mesa\, 7 E. Southern Ave.\, Mesa\, AZ\, 85210\, United States
CATEGORIES:Family Events,Public Skates,Special Events
ATTACH;FMTTYPE=image/png:https://unitedskates-assets.sfo3.digitaloceanspaces.com/wp-content/uploads/sites/20/2025/07/Hello-Kitty-8-23.png
END:VEVENT
BEGIN:VEVENT
DTSTART;TZID=America/Phoenix:20250823T190000
DTEND;TZID=America/Phoenix:20250823T213000
DTSTAMP:20260420T051719
CREATED:20250708T231239Z
LAST-MODIFIED:20250708T231239Z
UID:24101-1755975600-1755984600@www.unitedskates.com
SUMMARY:Jersey Hip Hop & R&B Skate
DESCRIPTION:🏀💜 JERSEY HIP HOP & R&B SKATE NIGHT 💛🛼\nA Legendary Tribute on Wheels – CELEBRATE KOBE’S HEAVENLY BIRTHDAY ! \nLace up your skates and rock your favorite basketball jersey as we celebrate the life\, legacy\, and unstoppable spirit of the one and only Kobe Bryant! 🐍💜 \n📅 Date: August 23 (Kobe’s Birthday)\n🕒 Time: 7:00-9:30 P.M\n🎟️ Admission: $14 Admission\nGet HALF OFF admission if you wear your fav. Kobe/Lakers Jersey !\n🛼 Skate rental: $5\n🦸🏽‍♂️ Non-Skating Adult: $4 \nWe’re turning the rink into a full-court celebration with:\n🎶 DJ spinning hip-hop + classic Kobe-era hits\n🏀 Basketball contest \nWhether you’re team #8 or team #24\, come honor Kobe’s greatness by rolling with us in true Mamba fashion — with passion\, focus\, and love for the game. 🐍
URL:https://www.unitedskates.com/skateland-mesa/event/jersey-hip-hop-rb-skate/
LOCATION:Skateland Mesa\, 7 E. Southern Ave.\, Mesa\, AZ\, 85210\, United States
CATEGORIES:Family Events,Public Skates,Special Events
ATTACH;FMTTYPE=image/png:https://unitedskates-assets.sfo3.digitaloceanspaces.com/wp-content/uploads/sites/20/2025/07/Kobe-Night-8-23.png
END:VEVENT
BEGIN:VEVENT
DTSTART;TZID=America/Phoenix:20250826T170000
DTEND;TZID=America/Phoenix:20250826T200000
DTSTAMP:20260420T051719
CREATED:20250730T005042Z
LAST-MODIFIED:20250730T005042Z
UID:24167-1756227600-1756238400@www.unitedskates.com
SUMMARY:First Responders Skate
DESCRIPTION:Come Celebrate Our Police Officers & Firefighters !\n\nDon’t Forget to Skate around with Stitch!\n\nWin Cool Merch from Our Local Police Officers!\n\nTake Pictures in The Police Car & Firetruck!\n\nPlay Trivia to Win Some FUN Prizes!\n\nDon’t Forget to Enter Our Free Raffle to WIN a Free Pizza Party For Your Class!\n\n$4 Admission\n$5 Skate Rental\n$4 Non-skating adult\n\n*Show Your First Responder Badge For Free Admission*\n\n**NO Outside Food Or Drinks Allowed**\n\n**Wristguards are Mandatory\, Free of Charge**
URL:https://www.unitedskates.com/skateland-mesa/event/first-responders-skate/
LOCATION:AZ
CATEGORIES:Family Events,Public Skates,Special Events
ATTACH;FMTTYPE=image/png:https://unitedskates-assets.sfo3.digitaloceanspaces.com/wp-content/uploads/sites/20/2025/07/Tuesday-August-26th-1.png
END:VEVENT
BEGIN:VEVENT
DTSTART;TZID=America/Phoenix:20250829T180000
DTEND;TZID=America/Phoenix:20250829T210000
DTSTAMP:20260420T051719
CREATED:20250806T000128Z
LAST-MODIFIED:20250806T000128Z
UID:24249-1756490400-1756501200@www.unitedskates.com
SUMMARY:Wednesday Roller Skate
DESCRIPTION:🖤🛼🎉 Get Your Skates On for a Wickedly Fun Night! 🎉🛼🖤 \nCalling all spooky souls and mysterious misfits… it’s time to SKATE LIKE WEDNESDAY! 💀✨ \nJoin us for a hauntingly fabulous Wednesday Addams Skating Night — where gothic vibes meet neon lights and killer beats. Whether you’re brooding in black or showing off your creepy dance moves\, this is the perfect night to let your dark side shine (on wheels\, of course)! \n🖤 Wednesday inspired photo op station🖤Music from the series & more🖤 Wednesday & Addams Family Trivia 🖤 Glow gear & blacklight fun \n🎟️ Admission: $14 Admission includes a FREE GLOWSTICK !\n🛼 Skate rental: $5\n🦸🏽‍♂️ Non-Skating Adult: $4 \n🪦 Don’t just stand there looking deadly — SKATE your way into the Addams aesthetic. It’s creepy\, it’s kooky\, and it’s guaranteed to be a scream! \n🖤 Black attire encouraged. Wednesday attitude required. 🖤 \n**NO FREE PASSES**
URL:https://www.unitedskates.com/skateland-mesa/event/wednesday-roller-skate/
LOCATION:Skateland Mesa\, 7 E. Southern Ave.\, Mesa\, AZ\, 85210\, United States
CATEGORIES:Family Events,Public Skates,Special Events
ATTACH;FMTTYPE=image/png:https://unitedskates-assets.sfo3.digitaloceanspaces.com/wp-content/uploads/sites/20/2025/08/Wednesday-8-29.png
END:VEVENT
BEGIN:VEVENT
DTSTART;TZID=America/Phoenix:20250829T180000
DTEND;TZID=America/Phoenix:20250901T233000
DTSTAMP:20260420T051719
CREATED:20250808T182250Z
LAST-MODIFIED:20250808T182250Z
UID:24257-1756490400-1756769400@www.unitedskates.com
SUMMARY:Labor Day Weekend
DESCRIPTION:Labor Day Weekend Skate Pass – Only $60!\nKick off the holiday weekend with food\, fun\, and fantastic savings for the whole family! \nThis $105 value includes:🛼 4 Admissions🛼 4 Skate Rentals🎮 1 Game Card with $20 Credit🍕 1 Whole Cheese Pizza🥤 1 Pitcher of Soda \nAll for just $60.00! \n📅 Valid August 29 – September 1 \nRestrictions apply. Valid during family public skate sessions only. \nGet Tickets Here
URL:https://www.unitedskates.com/skateland-mesa/event/labor-day-weekend-2/
LOCATION:AZ
CATEGORIES:Family Events,Public Skates,Special Events
ATTACH;FMTTYPE=image/jpeg:https://unitedskates-assets.sfo3.digitaloceanspaces.com/wp-content/uploads/sites/20/2025/08/50-Labor-Day-Weekend-Pass.jpg
END:VEVENT
END:VCALENDAR