BEGIN:VCALENDAR
VERSION:2.0
PRODID:-//Rink 50 - Skateland Mesa - ECPv6.15.20//NONSGML v1.0//EN
CALSCALE:GREGORIAN
METHOD:PUBLISH
X-WR-CALNAME:Rink 50 - Skateland Mesa
X-ORIGINAL-URL:https://www.unitedskates.com/skateland-mesa
X-WR-CALDESC:Events for Rink 50 - Skateland Mesa
REFRESH-INTERVAL;VALUE=DURATION:PT1H
X-Robots-Tag:noindex
X-PUBLISHED-TTL:PT1H
BEGIN:VTIMEZONE
TZID:America/Phoenix
BEGIN:STANDARD
TZOFFSETFROM:-0700
TZOFFSETTO:-0700
TZNAME:MST
DTSTART:20240101T000000
END:STANDARD
END:VTIMEZONE
BEGIN:VEVENT
DTSTART;TZID=America/Phoenix:20250602T110000
DTEND;TZID=America/Phoenix:20250602T153000
DTSTAMP:20260421T072707
CREATED:20250528T201441Z
LAST-MODIFIED:20250528T201441Z
UID:23584-1748862000-1748878200@www.unitedskates.com
SUMMARY:Public Skating
DESCRIPTION:☀️ Roll into summer fun with our daytime roller skating sessions!\n🎶🛼 Cool tunes\, sunny vibes\, and smooth moves make it the perfect way to beat the heat and brighten your day. 😎🍧 \n$12.00 Admission\n$5.00 Skate Rental\n$4.00 Adult Spectators \n**Wrist guards are mandatory for all skaters and are available free of charge.
URL:https://www.unitedskates.com/skateland-mesa/event/public-skating-7/
LOCATION:AZ
CATEGORIES:Family Events,Public Skates
ATTACH;FMTTYPE=image/jpeg:https://unitedskates-assets.sfo3.digitaloceanspaces.com/wp-content/uploads/sites/20/2025/02/Public-Skate-1200x1200-v3.jpg
END:VEVENT
BEGIN:VEVENT
DTSTART;TZID=America/Phoenix:20250603T110000
DTEND;TZID=America/Phoenix:20250603T153000
DTSTAMP:20260421T072707
CREATED:20250528T195941Z
LAST-MODIFIED:20250528T230245Z
UID:23497-1748948400-1748964600@www.unitedskates.com
SUMMARY:Sweet Treat Tuesdays
DESCRIPTION:🛼 Roll into Sweet Treat Tuesdays for a skating session topped with something delicious! 🍭\n🍦 Enjoy your favorite moves on the rink and indulge in tasty surprises — the perfect combo of fun and flavor! 🎉👟 \nGet a FREE sweet treat with every regular admission! \n$12.00 Admission\n$5.00 Skate Rental\n$4.00 Non-skating Adults \n**Wrist guards are required for all skaters and are available free of charge.
URL:https://www.unitedskates.com/skateland-mesa/event/sweet-treat-tuesdays/2025-06-03/
LOCATION:AZ
CATEGORIES:Family Events,Public Skates,Special Events
ATTACH;FMTTYPE=image/png:https://unitedskates-assets.sfo3.digitaloceanspaces.com/wp-content/uploads/sites/20/2025/05/Summer-skate-specials-1.png
END:VEVENT
BEGIN:VEVENT
DTSTART;TZID=America/Phoenix:20250607T130000
DTEND;TZID=America/Phoenix:20250607T153000
DTSTAMP:20260421T072707
CREATED:20250528T224903Z
LAST-MODIFIED:20250528T224903Z
UID:23596-1749301200-1749310200@www.unitedskates.com
SUMMARY:Hello Kitty Skate Party
DESCRIPTION:It’s a HELLO KITTY SKATE PARTY ! \nMeet & greet with Hello Kitty \, play games to win some Sanrio prizes\, enjoy our delicious cafe specials and visit our tattoo and bracelet making station ! \nSkate to the BEST music in town ALL SESSION LONG ! \n$12 Admission \n$5 Skate rental \n$4 Non-skating adult \n**No free passes accepted**
URL:https://www.unitedskates.com/skateland-mesa/event/hello-kitty-skate-party-2/
LOCATION:Skateland Mesa\, 7 E. Southern Ave.\, Mesa\, AZ\, 85210\, United States
CATEGORIES:Family Events,Public Skates,Special Events
ATTACH;FMTTYPE=image/png:https://unitedskates-assets.sfo3.digitaloceanspaces.com/wp-content/uploads/sites/20/2025/05/Hello-Kitty-06-07.png
END:VEVENT
BEGIN:VEVENT
DTSTART;TZID=America/Phoenix:20250608T150000
DTEND;TZID=America/Phoenix:20250608T173000
DTSTAMP:20260421T072707
CREATED:20250528T232747Z
LAST-MODIFIED:20250528T232747Z
UID:23617-1749394800-1749403800@www.unitedskates.com
SUMMARY:Best Friends Skate
DESCRIPTION:Join us for a glow in the dark BEST FRIENDS SKATE with Sponge Bob & Patrick ! \nGrab your best friends \,  take selfies with Sponge Bob and Patrick\, play games & skate to music of the greatest duets of all time ! \n$12 Admission \n$5 Skate Rental \n$4 Non-skating adult \n**No free passes accepted** \n********************** \nBest Friend Package ! \n$30 includes \nTWO admissions \nTWO skate rentals \n& a Best Friends necklace to share with your bestie ! \n 
URL:https://www.unitedskates.com/skateland-mesa/event/best-friends-skate/
LOCATION:Skateland Mesa\, 7 E. Southern Ave.\, Mesa\, AZ\, 85210\, United States
CATEGORIES:Family Events,Public Skates,Special Events
ATTACH;FMTTYPE=image/png:https://unitedskates-assets.sfo3.digitaloceanspaces.com/wp-content/uploads/sites/20/2025/05/BFF-skate-6-8.png
END:VEVENT
BEGIN:VEVENT
DTSTART;TZID=America/Phoenix:20250614T160000
DTEND;TZID=America/Phoenix:20250614T183000
DTSTAMP:20260421T072707
CREATED:20250605T204211Z
LAST-MODIFIED:20250605T204211Z
UID:23738-1749916800-1749925800@www.unitedskates.com
SUMMARY:LGBTQ+ Family Pride Skate
DESCRIPTION:🌈🛼 Get Ready to Roll with Pride! Family LGBTQ+ Skating Event Coming Soon! 🎉💖 \nMark your calendars and lace up your skates—because the rink is about to be bursting with color\, love\, and nonstop fun at our upcoming Family LGBTQ+ Skating Event! 🏳️‍🌈✨ \nJoin us for a magical day where families of all shapes and sizes can glide\, dance\, and celebrate in a space that’s welcoming\, inclusive\, and full of joy. Whether you’re a skating superstar or just starting out\, there’s something for everyone—from  craft stations\, to music\, games\, and delicious cafe & icee specials! \nAllies\, friends\, and chosen families are all welcome—because this isn’t just an event\, it’s a celebration of love\, identity\, and being unapologetically YOU. \n🎶💫 So grab your glitter\, throw on your favorite Pride gear\, and get ready to roll into an unforgettable day of fun and togetherness. Let’s make the rink shine with pride! \n$12 Admission includes a PRIDE goodie \n$5 skate rental \n$4 non-skating adult \n🛼💜 Don’t miss it—let’s skate with pride\, love\, and unity!
URL:https://www.unitedskates.com/skateland-mesa/event/lgbtq-family-pride-skate/
LOCATION:Skateland Mesa\, 7 E. Southern Ave.\, Mesa\, AZ\, 85210\, United States
CATEGORIES:Family Events,Public Skates,Special Events
ATTACH;FMTTYPE=image/png:https://unitedskates-assets.sfo3.digitaloceanspaces.com/wp-content/uploads/sites/20/2025/06/Family-pride-skate-6-14.png
END:VEVENT
BEGIN:VEVENT
DTSTART;TZID=America/Phoenix:20250615T120000
DTEND;TZID=America/Phoenix:20250615T143000
DTSTAMP:20260421T072707
CREATED:20250605T205208Z
LAST-MODIFIED:20250605T205208Z
UID:23741-1749988800-1749997800@www.unitedskates.com
SUMMARY:Father's Day Hero Skate
DESCRIPTION:🦸‍♂️🛼 Super Dad Skate Day is Coming—Celebrate Father’s Day in Heroic Style! 💥🎉 \nGet ready to grab your cape\, channel your inner hero\, and roll into the most epic celebration of the season—Superhero Father’s Day at the Skating Rink! 🦸‍♀️💫 \nWe’re turning the rink into a full-blown hero headquarters where dads\, stepdads\, grandpas\, uncles\, and father figures of all kinds can team up with their super-kids for a day of fun\, family\, and fearless skating! \nWhether your dad is a Marvel maverick\, a DC devotee\, or just your everyday superhero who makes life awesome—this is the perfect way to show him he’s legendary. 💙💪 \n$12 Admission \nAll Dads get free admission & a special gift from our staff ! \n$5 skate rental \n$4 non-skating adult \n**No Free Passes** \n✨ So suit up\, skate out\, and celebrate the real heroes in our lives with laughter\, love\, and a whole lot of wheels! Father’s Day Her Skate !—because every hero deserves a moment in the spotlight! 💥🛼💖
URL:https://www.unitedskates.com/skateland-mesa/event/fathers-day-hero-skate/
LOCATION:Skateland Mesa\, 7 E. Southern Ave.\, Mesa\, AZ\, 85210\, United States
CATEGORIES:Family Events,Public Skates,Special Events
ATTACH;FMTTYPE=image/png:https://unitedskates-assets.sfo3.digitaloceanspaces.com/wp-content/uploads/sites/20/2025/06/Fathers-Day-her-skate-6-15.png
END:VEVENT
BEGIN:VEVENT
DTSTART;TZID=America/Phoenix:20250615T173000
DTEND;TZID=America/Phoenix:20250615T173000
DTSTAMP:20260421T072707
CREATED:20250530T000722Z
LAST-MODIFIED:20250530T000722Z
UID:23719-1750008600-1750008600@www.unitedskates.com
SUMMARY:Father's Day Old School Skate
DESCRIPTION:This Father’s Day\, get ready to groove\, glide\, and celebrate dad like never before at the ultimate old school skate party! 🕺🏾💃🏾 \nIt’s time to lace up your skates and roll back to the golden era of music with all your favorite jams—from classic beats to soulful grooves that’ll have you and dad reminiscing about the good old days! \n\n\n\n\n\n\n\n\n\nSo\, grab your dad\, your crew\, and your skates—because this Father’s Day is all about good music\, great company\, and making memories that’ll last a lifetime. 🛼🎤 \nAll Dads get FREE ADMISSION & a gift from our staff ! \n\n\n\n\n\n$12 Admission\n$5 Skate Rental\n$4 Non-Skating Adults
URL:https://www.unitedskates.com/skateland-mesa/event/fathers-day-old-school-skate/
LOCATION:Skateland Mesa\, 7 E. Southern Ave.\, Mesa\, AZ\, 85210\, United States
CATEGORIES:Family Events,Public Skates,Special Events
ATTACH;FMTTYPE=image/png:https://unitedskates-assets.sfo3.digitaloceanspaces.com/wp-content/uploads/sites/20/2025/05/Fathers-Old-School-6-15-1.png
END:VEVENT
BEGIN:VEVENT
DTSTART;TZID=America/Phoenix:20250618T183000
DTEND;TZID=America/Phoenix:20250618T210000
DTSTAMP:20260421T072707
CREATED:20250618T000229Z
LAST-MODIFIED:20250618T000229Z
UID:23978-1750271400-1750280400@www.unitedskates.com
SUMMARY:Gospel GLOW Skate
DESCRIPTION:✨ Lace up\, light up\, and lift Him up! ✨Join us for Gospel GLOW Skating Night—an evening where neon lights meet spirit‑lifting beats. Glide under black‑light skies to your favorite worship hits\, grab glow gear at the door\, and roll into fellowship\, fun\, and faith. Bring your friends\, your brightest colors\, and let’s shine His love on the rink! 🛼🎶 \nAdmission: $12.00 includes AYCE Pizza\nNon skating adults: $10.00 includes AYCE pizza\nSkate Rental: $5.00
URL:https://www.unitedskates.com/skateland-mesa/event/gospel-glow-skate-2/
LOCATION:AZ
CATEGORIES:Family Events,Public Skates,Special Events
ATTACH;FMTTYPE=image/png:https://unitedskates-assets.sfo3.digitaloceanspaces.com/wp-content/uploads/sites/20/2025/06/GOSPEL-Skate-June.png
END:VEVENT
BEGIN:VEVENT
DTSTART;TZID=America/Phoenix:20250619T110000
DTEND;TZID=America/Phoenix:20250619T153000
DTSTAMP:20260421T072707
CREATED:20250605T213931Z
LAST-MODIFIED:20250605T213931Z
UID:23744-1750330800-1750347000@www.unitedskates.com
SUMMARY:Spiderman Roller Skate
DESCRIPTION:🕷️🛼 Swing Into Action at the Spider-Man Skate Spectacular! 🎉💥 \nGet ready to spin some webs and roll into hero mode—because the skating rink is turning into Spider-Man’s playground for one incredible\, action-packed event! 🕸️🕷️ \nJoin us for the Spider-Man Skate Spectacular\, an exciting day where families can meet their favorite wall-crawling superhero\, show off their skating skills\, and dive into a world of fun\, adventure\, and Spidey-style surprises! Whether you’re Team Peter Parker\, Miles Morales\, or Gwen Stacy—you’re invited to swing by and celebrate! \nExpect a web of awesome activities:🛼 Spiderman Trivia🕷️ Meet & greet with Spidey & Ghost Spider \nDon’t forget to wear your best Spider-Man costume or superhero gear—we’ll have prizes for the most spectacular suits! \n$12 admission \n$5 skate rental \n$4 non-skating adult \n**No Free Passes** \nSo grab your skates\, suit up\, and get ready to swing by for an unforgettable day of family fun! The Spider-Man Skate Spectacular is your chance to be the hero of the rink—don’t miss it! 🛼💥🕸️
URL:https://www.unitedskates.com/skateland-mesa/event/spiderman-roller-skate/
LOCATION:Skateland Mesa\, 7 E. Southern Ave.\, Mesa\, AZ\, 85210\, United States
CATEGORIES:Family Events,Public Skates,Special Events
ATTACH;FMTTYPE=image/png:https://unitedskates-assets.sfo3.digitaloceanspaces.com/wp-content/uploads/sites/20/2025/06/Spiderman-Skate-6-19.png
END:VEVENT
BEGIN:VEVENT
DTSTART;TZID=America/Phoenix:20250619T173000
DTEND;TZID=America/Phoenix:20250619T200000
DTSTAMP:20260421T072707
CREATED:20250520T004606Z
LAST-MODIFIED:20250520T013215Z
UID:23406-1750354200-1750363200@www.unitedskates.com
SUMMARY:Juneteenth Roller Skate
DESCRIPTION:🛼 Celebrate freedom\, culture\, and community at our Juneteenth Family Skate! 🎶\n❤️ Roll to the smoothest beats\, enjoy good vibes\, and make lasting memories with the whole family. ✊🏾✨ A night of unity\, rhythm\, and fun on wheels! \n$13.00 Admission\n$5.00 Skate Rental\n$4.00 Non-skating Adults \n**Wrist guards are required for all skaters and are available free of charge.
URL:https://www.unitedskates.com/skateland-mesa/event/theme-thursday-2025-06-19/
LOCATION:AZ
CATEGORIES:Family Events,Public Skates,Special Events
ATTACH;FMTTYPE=image/png:https://unitedskates-assets.sfo3.digitaloceanspaces.com/wp-content/uploads/sites/20/2025/05/Juneteenth-Family-Skate.png
END:VEVENT
BEGIN:VEVENT
DTSTART;TZID=America/Phoenix:20250621T100000
DTEND;TZID=America/Phoenix:20250621T123000
DTSTAMP:20260421T072707
CREATED:20250605T215921Z
LAST-MODIFIED:20250605T215921Z
UID:23747-1750500000-1750509000@www.unitedskates.com
SUMMARY:Waffles with Minion
DESCRIPTION:  \n🍌🛼 Waffles with the Minion – A Skating Rink Takeover of Fun and Fluffiness! 🎉🥞 \nGet ready for the most despicably delightful morning of the year—because a very special yellow guest is coming to town! Join us for Waffles with the Minion at the skating rink\, where silliness meets syrup in an unforgettable breakfast bash! 💛👓 \nBring the whole family for a morning packed with giggles\, skating\, and Minion-sized fun. Start the day with a delicious waffle with all your favorite toppings\, then hit the rink with your favorite banana-loving buddy! Whether you’re dancing on skates or munching on syrupy goodness\, this event promises smiles for kids and grown-ups alike. \nHere’s what’s in store:🥞 Waffle bar with all your favorite toppings💛 Meet & Greet with a real Minion!🛼 Family skate session with fun games and upbeat music📸 Photo ops that are totally frame-worthy! \n$12 Admission includes a waffle & a trip to the waffle bar \n$5 Skate rental \n$4 non-skating \n*No Free Passes** \nSo grab your skates\, bring your appetite\, and get ready to laugh\, dance\, and waffle your way into a morning full of joy. Waffles with the Minion—because every great day starts with breakfast and a banana-loving bestie! 🍌🛼✨
URL:https://www.unitedskates.com/skateland-mesa/event/waffles-with-minion/
LOCATION:Skateland Mesa\, 7 E. Southern Ave.\, Mesa\, AZ\, 85210\, United States
CATEGORIES:Family Events,Public Skates,Special Events
ATTACH;FMTTYPE=image/png:https://unitedskates-assets.sfo3.digitaloceanspaces.com/wp-content/uploads/sites/20/2025/06/Waffles-w-minion-6-21.png
END:VEVENT
BEGIN:VEVENT
DTSTART;TZID=America/Phoenix:20250626T110000
DTEND;TZID=America/Phoenix:20250626T153000
DTSTAMP:20260421T072707
CREATED:20250520T002708Z
LAST-MODIFIED:20250520T013736Z
UID:23359-1750935600-1750951800@www.unitedskates.com
SUMMARY:Stitch Skate Party
DESCRIPTION:🛼 Get ready for an out-of-this-world time at our Stitch Skate! 🌺\n👽 Skate alongside everyone’s favorite blue alien\, snap fun photos\, and enjoy a night full of cosmic fun\, island vibes\, and family-friendly memories. 🎶🌀💙 \nWear your favorite Stitch merch for $1.00 off your admission! \n$12.00 Admission\n$5.00 Skate Rental\n$4.00 Non-skating Adults \n**Wrist guards are required for all skaters and are available free of charge.
URL:https://www.unitedskates.com/skateland-mesa/event/character-thursdays-2025-06-26/
LOCATION:AZ
CATEGORIES:Family Events,Public Skates,Special Events
ATTACH;FMTTYPE=image/png:https://unitedskates-assets.sfo3.digitaloceanspaces.com/wp-content/uploads/sites/20/2025/05/Stitch-Day-Skate-626.png
END:VEVENT
BEGIN:VEVENT
DTSTART;TZID=America/Phoenix:20250626T173000
DTEND;TZID=America/Phoenix:20250626T200000
DTSTAMP:20260421T072707
CREATED:20250520T004606Z
LAST-MODIFIED:20250520T014018Z
UID:23407-1750959000-1750968000@www.unitedskates.com
SUMMARY:Skate with Stitch & Angel
DESCRIPTION:🛼 Double the fun at our Stitch & Angel Skate! 💙💖\nJoin your favorite alien duo on the rink for a night of intergalactic fun\, island vibes\, and unforgettable photo ops. 🌺👽🎶\nBring the whole ‘ohana for a skating adventure that’s totally out of this world! 🌀✨ \n$13.00 Admission\n$5.00 Skate Rental\n$4.00 Non-skating Adults \n**Wrist guards are required for all skaters and are available free of charge.
URL:https://www.unitedskates.com/skateland-mesa/event/theme-thursday-2025-06-26/
LOCATION:AZ
CATEGORIES:Family Events,Public Skates,Special Events
ATTACH;FMTTYPE=image/png:https://unitedskates-assets.sfo3.digitaloceanspaces.com/wp-content/uploads/sites/20/2025/05/Stitch-Angel-Skate-626.png
END:VEVENT
BEGIN:VEVENT
DTSTART;TZID=America/Phoenix:20250629T180000
DTEND;TZID=America/Phoenix:20250629T203000
DTSTAMP:20260421T072707
CREATED:20250605T221903Z
LAST-MODIFIED:20250605T221903Z
UID:23750-1751220000-1751229000@www.unitedskates.com
SUMMARY:Beyonce Skate Night
DESCRIPTION:👑🛼 Get in Formation: Beyoncé Skate Night is Coming! 🎤✨ \nCalling all queens\, divas\, and Beyhive royalty—it’s time to put on your crown and hit the rink! Get ready to SLAY at our upcoming Beyoncé  Skate Night\, where the music is fierce\, the vibes are flawless\, and the energy is pure Sasha Fierce! 💃🏾🛼 \nWe’re rolling out a night dedicated to the one and only Queen Bey\, packed with nonstop Beyoncé hits\, dazzling lights\, and empowering energy. Whether you’re skating solo or with your crew \, this is your time to lace up your skates & hit the floor to all of Beyonce’s FLAWLESS music! \n$12 Admission \n$5 Skate Rental \n$4 non-skating adult \n**No Free Passes** \nWhether you’re channeling your inner “Single Lady” or rolling up like a “Run the World” boss—this is your night to skate\, slay\, and celebrate all things Beyoncé. Don’t miss the event everyone will be talking about. Let’s make this rink irreplaceable! 💛👠🛼
URL:https://www.unitedskates.com/skateland-mesa/event/beyonce-skate-night-2/
LOCATION:Skateland Mesa\, 7 E. Southern Ave.\, Mesa\, AZ\, 85210\, United States
CATEGORIES:Family Events,Public Skates,Special Events
ATTACH;FMTTYPE=image/png:https://unitedskates-assets.sfo3.digitaloceanspaces.com/wp-content/uploads/sites/20/2025/06/Beyonce-6-29.png
END:VEVENT
END:VCALENDAR