BEGIN:VCALENDAR
VERSION:2.0
PRODID:-//Rink 50 - Skateland Mesa - ECPv6.15.20//NONSGML v1.0//EN
CALSCALE:GREGORIAN
METHOD:PUBLISH
X-ORIGINAL-URL:https://www.unitedskates.com/skateland-mesa
X-WR-CALDESC:Events for Rink 50 - Skateland Mesa
REFRESH-INTERVAL;VALUE=DURATION:PT1H
X-Robots-Tag:noindex
X-PUBLISHED-TTL:PT1H
BEGIN:VTIMEZONE
TZID:America/Phoenix
BEGIN:STANDARD
TZOFFSETFROM:-0700
TZOFFSETTO:-0700
TZNAME:MST
DTSTART:20230101T000000
END:STANDARD
END:VTIMEZONE
BEGIN:VEVENT
DTSTART;TZID=America/Phoenix:20240801T173000
DTEND;TZID=America/Phoenix:20240801T200000
DTSTAMP:20260424T101821
CREATED:20240704T225928Z
LAST-MODIFIED:20240704T225928Z
UID:18548-1722533400-1722542400@www.unitedskates.com
SUMMARY:Football Frenzy Kick Off Skate
DESCRIPTION:Join us from 5:30-8:00 P.M to kick off the football preseason ! \n$15 admission includes skate rental\, one slice of cheese pizza & a small drink \nWatch the game on our TV’s while enjoying our delicious cafe specials ! \n**No Free Passes**
URL:https://www.unitedskates.com/skateland-mesa/event/football-frenzy-kick-off-skate/
LOCATION:Skateland Mesa\, 7 E. Southern Ave.\, Mesa\, AZ\, 85210\, United States
CATEGORIES:Family Events,Public Skates,Special Events
ATTACH;FMTTYPE=image/png:https://unitedskates-assets.sfo3.digitaloceanspaces.com/wp-content/uploads/sites/20/2024/07/Football-kick-off-8-1-1.png
END:VEVENT
BEGIN:VEVENT
DTSTART;TZID=America/Phoenix:20240802T120000
DTEND;TZID=America/Phoenix:20240802T143000
DTSTAMP:20260424T101821
CREATED:20240516T220236Z
LAST-MODIFIED:20240802T183657Z
UID:17906-1722600000-1722609000@www.unitedskates.com
SUMMARY:CANCELED Summer Skating
DESCRIPTION:Come get your roll on and beat the heat with us all summer long! \nAdmission: $11.00\nSkates: $4.50 \nTop 40/POP Music
URL:https://www.unitedskates.com/skateland-mesa/event/summer-skating-2-2024-08-02/
CATEGORIES:Family Events,Public Skates
END:VEVENT
BEGIN:VEVENT
DTSTART;TZID=America/Phoenix:20240803T190000
DTEND;TZID=America/Phoenix:20240803T213000
DTSTAMP:20260424T101821
CREATED:20240430T212919Z
LAST-MODIFIED:20250827T182700Z
UID:18986-1722711600-1722720600@www.unitedskates.com
SUMMARY:Family Jam Skate
DESCRIPTION:🛼 Family Jam Skate Night! 🛼Bring the whole crew for a night of skating\, music\, and endless fun!Family fun\, skate style! 💥👨‍👩‍👧‍👦 \n$14.00 Admission all children and skating adults.\n$4.00 Non-Skating Adults\n$5 skate/rollerblade rental \nWrist guards are free and required regardless of age or skating experience – pick them up at the skate counter. \nNo Outside Food Or Drinks. \nGuests 17 years of age and younger must be accompanied by a chaperone 23 years of age or older unless they own their own pair of skates\n 
URL:https://www.unitedskates.com/skateland-mesa/event/saturday-glow-skate-4-2024-08-03/2024-08-03/
LOCATION:Skateland Mesa\, 7 E. Southern Ave.\, Mesa\, AZ\, 85210\, United States
CATEGORIES:Family Events,Public Skates
ATTACH;FMTTYPE=image/jpeg:https://unitedskates-assets.sfo3.digitaloceanspaces.com/wp-content/uploads/sites/20/2022/05/Glow-Skate-1200x900-1.jpg
END:VEVENT
BEGIN:VEVENT
DTSTART;TZID=America/Phoenix:20240804T120000
DTEND;TZID=America/Phoenix:20240804T143000
DTSTAMP:20260424T101821
CREATED:20240810T230717Z
LAST-MODIFIED:20250109T022320Z
UID:19350-1722772800-1722781800@www.unitedskates.com
SUMMARY:Public Skating
DESCRIPTION:$12 admission all children and skating adults.\n$4.00 Non-Skating Adults \n$5 skates/blade rental \nWrist guards are Mandatory and free of charge. \nNo Outside food or drinks.
URL:https://www.unitedskates.com/skateland-mesa/event/public-skating-3/
CATEGORIES:Family Events,Public Skates
END:VEVENT
BEGIN:VEVENT
DTSTART;TZID=America/Phoenix:20240807T180000
DTEND;TZID=America/Phoenix:20240807T203000
DTSTAMP:20260424T101821
CREATED:20240803T225857Z
LAST-MODIFIED:20240911T214836Z
UID:19103-1723053600-1723062600@www.unitedskates.com
SUMMARY:All You Can Eat Pizza Skate
DESCRIPTION:Join us every Wednesday for our All You Can Eat Pizza Skate! \n$16.00 Admission for all guests who enter\n$4.50 skate/rollerblade rental \nWrist guards are provided free of charge and are mandatory for all skaters regardless of age/skating ability.
URL:https://www.unitedskates.com/skateland-mesa/event/all-you-can-eat-pizza-skate/2024-08-07/
CATEGORIES:Family Events,Public Skates
ATTACH;FMTTYPE=image/jpeg:https://unitedskates-assets.sfo3.digitaloceanspaces.com/wp-content/uploads/sites/20/2024/05/AYCE-Skate-1200x1200-1.jpg
END:VEVENT
BEGIN:VEVENT
DTSTART;TZID=America/Phoenix:20240809T180000
DTEND;TZID=America/Phoenix:20240809T210000
DTSTAMP:20260424T101821
CREATED:20240717T220412Z
LAST-MODIFIED:20240717T220412Z
UID:18665-1723226400-1723237200@www.unitedskates.com
SUMMARY:Movie Music Kid's Skate
DESCRIPTION:Join us from 6:00-9:00 P.M and enjoy games\, cafe specials & the greatest music of the best kid’s movies of all time \nALL SESSION LONG !! \n$13 Admission \n$4.50 Skate Rental \n**No Free Passes**
URL:https://www.unitedskates.com/skateland-mesa/event/movie-music-kids-skate/
LOCATION:Skateland Mesa\, 7 E. Southern Ave.\, Mesa\, AZ\, 85210\, United States
CATEGORIES:Family Events,Public Skates,Special Events
ATTACH;FMTTYPE=image/png:https://unitedskates-assets.sfo3.digitaloceanspaces.com/wp-content/uploads/sites/20/2024/07/Movie-Music-Kids-Skate-8-9.png
END:VEVENT
BEGIN:VEVENT
DTSTART;TZID=America/Phoenix:20240814T180000
DTEND;TZID=America/Phoenix:20240814T203000
DTSTAMP:20260424T101821
CREATED:20240812T201511Z
LAST-MODIFIED:20240812T214440Z
UID:19585-1723658400-1723667400@www.unitedskates.com
SUMMARY:Minion Skate Party
DESCRIPTION:Join us for our Minion skate party ! \nMeet our minion \, enjoy delicious cafe specials \, and listen to the best music \nALL SESSION LONG ! \n$15 Admission includes skate rental & a FREE mini icee \n\nWear your favorite Minion Merch and get $2 off admission !\n\n$4.00 non-skating adults \n**No free passes**
URL:https://www.unitedskates.com/skateland-mesa/event/minion-skate-party/
LOCATION:Skateland Mesa\, 7 E. Southern Ave.\, Mesa\, AZ\, 85210\, United States
CATEGORIES:Family Events,Public Skates,Special Events
ATTACH;FMTTYPE=image/png:https://unitedskates-assets.sfo3.digitaloceanspaces.com/wp-content/uploads/sites/20/2024/07/Minion-Skate-Party-8-14-1.png
END:VEVENT
BEGIN:VEVENT
DTSTART;TZID=America/Phoenix:20240817T160000
DTEND;TZID=America/Phoenix:20240817T183000
DTSTAMP:20260424T101821
CREATED:20240717T223452Z
LAST-MODIFIED:20240717T223452Z
UID:18681-1723910400-1723919400@www.unitedskates.com
SUMMARY:Alien Invasion Roller Skate
DESCRIPTION:Beam up for this One-Of-a-kind event ! \nJoin us from 4:00-6:30 P.M. for Alien visits and photo ops\, Alien costume contest\, trivia & delicious cafe specials ! \n$12 Admission (includes FREE glowstick!) \n$4.50 Skate Rental \n**No Free Passes**
URL:https://www.unitedskates.com/skateland-mesa/event/alien-invasion-roller-skate/
LOCATION:Skateland Mesa\, 7 E. Southern Ave.\, Mesa\, AZ\, 85210\, United States
CATEGORIES:Family Events,Public Skates,Special Events
ATTACH;FMTTYPE=image/png:https://unitedskates-assets.sfo3.digitaloceanspaces.com/wp-content/uploads/sites/20/2024/07/Alien-Invasion-Skate-8-17.png
END:VEVENT
BEGIN:VEVENT
DTSTART;TZID=America/Phoenix:20240818T120000
DTEND;TZID=America/Phoenix:20240818T143000
DTSTAMP:20260424T101821
CREATED:20240718T010225Z
LAST-MODIFIED:20240718T010225Z
UID:18683-1723982400-1723991400@www.unitedskates.com
SUMMARY:Old Timer Roller Skate
DESCRIPTION:Dress up as your favorite Old Timer and join us from 12:00-2:30 P.M ! \nWe’ll be featuring the greatest hits of the 20th Century ! \n$11 Admission \n$4.50 Skate Rental \n**No Free Passes**
URL:https://www.unitedskates.com/skateland-mesa/event/old-timer-roller-skate/
LOCATION:Skateland Mesa\, 7 E. Southern Ave.\, Mesa\, AZ\, 85210\, United States
CATEGORIES:Family Events,Public Skates,Special Events
ATTACH;FMTTYPE=image/jpeg:https://unitedskates-assets.sfo3.digitaloceanspaces.com/wp-content/uploads/sites/20/2024/07/Old-Timer-Dress-Up-Skate-rink-50.jpg
END:VEVENT
BEGIN:VEVENT
DTSTART;TZID=America/Phoenix:20240824T160000
DTEND;TZID=America/Phoenix:20240824T183000
DTSTAMP:20260424T101821
CREATED:20240709T201936Z
LAST-MODIFIED:20240729T215617Z
UID:18634-1724515200-1724524200@www.unitedskates.com
SUMMARY:Hello Kitty Skate Party
DESCRIPTION:Join us for a glow in the dark Hello Kitty Skate Party from 4:00-6:30 P.M. \nGet a chance to WIN Special Sanrio Prizes \, Great Music & Cafe specials ALL session long ! \n$13 Admission includes FREE pink glow stick \n$4.50 Skate Rental \n**No Free Passes**
URL:https://www.unitedskates.com/skateland-mesa/event/hello-kitty-skate-party/
LOCATION:Skateland Mesa\, 7 E. Southern Ave.\, Mesa\, AZ\, 85210\, United States
CATEGORIES:Family Events,Public Skates,Special Events
ATTACH;FMTTYPE=image/png:https://unitedskates-assets.sfo3.digitaloceanspaces.com/wp-content/uploads/sites/20/2024/07/Hello-Kitty-8-24-1.png
END:VEVENT
BEGIN:VEVENT
DTSTART;TZID=America/Phoenix:20240827T173000
DTEND;TZID=America/Phoenix:20240827T200000
DTSTAMP:20260424T101821
CREATED:20240719T213941Z
LAST-MODIFIED:20240719T213941Z
UID:18694-1724779800-1724788800@www.unitedskates.com
SUMMARY:Icee Roller Skate
DESCRIPTION:Join us for an Icee Roller Skate ! \nEnjoy some awesome icee candy \, cafe specials\, & games ! \n$10 Admission includes skate rental & a FREE mini icee ! \n**No Free Passes**
URL:https://www.unitedskates.com/skateland-mesa/event/icee-roller-skate/
LOCATION:Skateland Mesa\, 7 E. Southern Ave.\, Mesa\, AZ\, 85210\, United States
CATEGORIES:Family Events,Public Skates,Special Events
ATTACH;FMTTYPE=image/png:https://unitedskates-assets.sfo3.digitaloceanspaces.com/wp-content/uploads/sites/20/2024/07/Icee-Roller-Skate-8-27.png
END:VEVENT
END:VCALENDAR